BEGIN:VCALENDAR
VERSION:2.0
PRODID:-//Pražský šachový svaz - ECPv4.5.13//NONSGML v1.0//EN
CALSCALE:GREGORIAN
METHOD:PUBLISH
X-WR-CALNAME:Pražský šachový svaz
X-ORIGINAL-URL:https://prazskysach.cz
X-WR-CALDESC:Events for Pražský šachový svaz
BEGIN:VEVENT
DTSTART;VALUE=DATE:20250517
DTEND;VALUE=DATE:20250518
DTSTAMP:20260420T103144
CREATED:20250308T150013Z
LAST-MODIFIED:20250308T150355Z
UID:12573-1747440000-1747612799@prazskysach.cz
SUMMARY:Školení trenérů III. třídy
DESCRIPTION:Trenérská komise Šachového svazu České republiky pořádá školení trenérů III. třídy. \nDetailní podmínky ZDE. \nTohoto školení se můžou zúčastnit i zájemci\, kteří aktuálně žádnou trenérskou třídu nemají\, protože 4. třídu je možné splnit online testem. \nOnline školení – 17.- 18. 5. 2025 \nPrezenční školení v Praze -13.- 14. 9. 2025 – v sobotu bude i doškolení \nPřihlášky jsou přes google formulář: \nPro školení trenér 3. třídy ZDE \nDalší informace se dozvíte i v článku na stránkách Šachového svazu ZDE. \n
URL:https://prazskysach.cz/kalendar/skoleni-treneru-iii-tridy-3/
LOCATION:Jeremenkova 106\, Praha\, Hlavní město Praha\, 14053\, Česká republika
CATEGORIES:Školení
ORGANIZER;CN="%C5%A0achov%C3%BD%20svaz%20%C4%8Cesk%C3%A9%20republiky":MAILTO:sekretariat@chess.cz
END:VEVENT
BEGIN:VEVENT
DTSTART;VALUE=DATE:20250517
DTEND;VALUE=DATE:20250518
DTSTAMP:20260420T103144
CREATED:20250416T165837Z
LAST-MODIFIED:20250416T165837Z
UID:12734-1747440000-1747612799@prazskysach.cz
SUMMARY:Soustředění TCM PŠS
DESCRIPTION:Zveme děti z listiny talentů ze skupin A a B na soustředění TCM\, které bude o víkendu 17. a 18.5.2025. Soustředění se bude konat na OAZE ve třech tréninkových skupinách (ve třech oddělených místnostech) pod vedením trenérů: IM Lukáš Vlasák\, GM Petr Neuman\, IM Michal Konopka  Propozice \nTěšíme se na hojnou účast dětí. \nKM PŠS \n
URL:https://prazskysach.cz/kalendar/soustredeni-tcm-pss/
LOCATION:Hlavní město Praha
END:VEVENT
BEGIN:VEVENT
DTSTART;TZID=Europe/Prague:20250517T090000
DTEND;TZID=Europe/Prague:20250517T140000
DTSTAMP:20260420T103144
CREATED:20240925T201251Z
LAST-MODIFIED:20240925T201251Z
UID:12235-1747472400-1747490400@prazskysach.cz
SUMMARY:PORG OPEN
DESCRIPTION:Seriál otevřených turnajů v rapid šachu pro mládež do 20 let pořádaný Šachový klubem Dopravní podnik Praha z.s. ve spolupráci a za podpory PORG – gymnázium a základní škola o.p.s.  Stránky turnaje  \n
URL:https://prazskysach.cz/kalendar/porg-open-49/
LOCATION:Pod Krčským lesem 1300/25\, Praha 4\, Hlavní město Praha\, 142 00\, Česká republika
CATEGORIES:Turnaje
ORGANIZER;CN="%C5%A0K%20Dopravn%C3%AD%20podnik%20Praha":MAILTO:ruzena.pribylova@gmail.com
END:VEVENT
BEGIN:VEVENT
DTSTART;TZID=Europe/Prague:20250517T133000
DTEND;TZID=Europe/Prague:20250517T180000
DTSTAMP:20260420T103144
CREATED:20240901T054619Z
LAST-MODIFIED:20240901T054619Z
UID:12186-1747488600-1747504800@prazskysach.cz
SUMMARY:Kobyliský rapid
DESCRIPTION:Seriál turnajů v rapidu pořádaný šachovým oddílem TJ Kobylisy. Propozice ZDE \n
URL:https://prazskysach.cz/kalendar/kobylisky-rapid-77/
LOCATION:U Školské zahrady 430/9\, Praha 8-Kobylisy\, Hlavní město Praha\, Česká republika
CATEGORIES:Turnaje
END:VEVENT
END:VCALENDAR