BEGIN:VCALENDAR
VERSION:2.0
PRODID:-//Pražský šachový svaz - ECPv4.5.13//NONSGML v1.0//EN
CALSCALE:GREGORIAN
METHOD:PUBLISH
X-WR-CALNAME:Pražský šachový svaz
X-ORIGINAL-URL:https://prazskysach.cz
X-WR-CALDESC:Events for Pražský šachový svaz
BEGIN:VEVENT
DTSTART;VALUE=DATE:20250523
DTEND;VALUE=DATE:20250525
DTSTAMP:20260420T085446
CREATED:20240802T101013Z
LAST-MODIFIED:20241214T100437Z
UID:12066-1747958400-1748217599@prazskysach.cz
SUMMARY:Přebor Prahy mládeže HD10-HD20 finále
DESCRIPTION:Přebor Prahy mládeže jednotlivců HD10-HD20 – finále. Detailní informace naleznete po jejich zveřejnění na stránkách PŠS na tomto odkazu.. \n
URL:https://prazskysach.cz/kalendar/prebor-prahy-mladeze-hd10-hd20-finale-2/
CATEGORIES:Turnaje
END:VEVENT
BEGIN:VEVENT
DTSTART;TZID=UTC+1:20250524T100000
DTEND;TZID=UTC+1:20250524T170000
DTSTAMP:20260420T085446
CREATED:20250201T121757Z
LAST-MODIFIED:20250201T151848Z
UID:12475-1748080800-1748106000@prazskysach.cz
SUMMARY:Smíchovský soudek
DESCRIPTION:PROPOZICE ZDE \nSMÍCHOVSKÝ SOUDEK 2025 \nŠachisté\, zejména milovníci pěnivého moku\, se již těší na tradiční Smíchovský soudek který je plánován na 24. května 2025 v režii ŠK Smíchov. 39. ročník tohoto oblíbeného turnaje \, nebýt Covid -19 mohli jsme mít letost již 41 ročník\, se uskuteční jako doposud ve smíchovském pivovaru Staropramen. Ten je tradičním podporovatelem turnaje a tak příznivci zlatavého moku jako každoročně dostanou 2 piva ke hře. Zveme ty\, kteří ještě nebyli nikdy na staru k návštěvě\, neboť nemusí mít strach o svůj rating\, protože turnaj není započítáván na ELO. Čtyřčlenná družstva se utkají v bleskové hře o putovní cenu Smíchovský soudek. Jak je již zvykem mezi účastníky z několika národních federací jsou také nositelé velmistrovských titulů a je to prostě podívaná! Limit družstev je 40\,\nten byl loni naplněn.\nL.D. \n  \n  \n
URL:https://prazskysach.cz/kalendar/smichovsky-soudek-6/
LOCATION:Nádražní 43/84\, Praha\, Hlavní město Praha\, Česká republika
CATEGORIES:Turnaje
ATTACH;FMTTYPE=image/jpeg:https://prazskysach.cz/wp-content/uploads/2025/02/20240525_104836-e1738411955980.jpg
END:VEVENT
END:VCALENDAR