BEGIN:VCALENDAR
VERSION:2.0
PRODID:-//Pražský šachový svaz - ECPv4.5.13//NONSGML v1.0//EN
CALSCALE:GREGORIAN
METHOD:PUBLISH
X-WR-CALNAME:Pražský šachový svaz
X-ORIGINAL-URL:https://prazskysach.cz
X-WR-CALDESC:Events for Pražský šachový svaz
BEGIN:VEVENT
DTSTART;VALUE=DATE:20250531
DTEND;VALUE=DATE:20250601
DTSTAMP:20260420T185112
CREATED:20240802T114158Z
LAST-MODIFIED:20250315T185808Z
UID:12092-1748649600-1748822399@prazskysach.cz
SUMMARY:MČR družstev starších žáků
DESCRIPTION:Turnaj pořádaný ŠSČR. Více na  stránkách ŠSČR.. \nPropozice \n
URL:https://prazskysach.cz/kalendar/mcr-druzstev-starsich-zaku-2/
LOCATION:Gorkého 2573\,\, Pardubice\, Česká republika
CATEGORIES:Turnaje
END:VEVENT
BEGIN:VEVENT
DTSTART;TZID=UTC+1:20250531T083000
DTEND;TZID=UTC+1:20250531T183000
DTSTAMP:20260420T185112
CREATED:20250405T133308Z
LAST-MODIFIED:20250405T141655Z
UID:12688-1748680200-1748716200@prazskysach.cz
SUMMARY:Školení a seminář rozhodčích R2 a R3
DESCRIPTION:Školení rozhodčích 2. a 3. třídy a seminář na obnovení obou tříd. \nPropozice zde. \n
URL:https://prazskysach.cz/kalendar/skoleni-a-seminar-rozhodcich-r2-a-r3/
LOCATION:Zátopkova 100/2\, Praha\, Hlavní město Praha\, Česká republika
END:VEVENT
END:VCALENDAR