BEGIN:VCALENDAR
VERSION:2.0
PRODID:-//Pražský šachový svaz - ECPv4.5.13//NONSGML v1.0//EN
CALSCALE:GREGORIAN
METHOD:PUBLISH
X-WR-CALNAME:Pražský šachový svaz
X-ORIGINAL-URL:https://prazskysach.cz
X-WR-CALDESC:Events for Pražský šachový svaz
BEGIN:VEVENT
DTSTART;TZID=UTC+1:20250607T083000
DTEND;TZID=UTC+1:20250607T170000
DTSTAMP:20260421T054218
CREATED:20250308T162157Z
LAST-MODIFIED:20250418T122928Z
UID:12590-1749285000-1749315600@prazskysach.cz
SUMMARY:Přebor Prahy 4-členných družstev
DESCRIPTION:Propozice naleznete zde. \n
URL:https://prazskysach.cz/kalendar/prebor-prahy-4-clennych-druzstev/
LOCATION:Štefánikova 13\, Praha 5\, Hlavní město Praha\, 150 00\, Česká republika
CATEGORIES:Turnaje
END:VEVENT
END:VCALENDAR