BEGIN:VCALENDAR
VERSION:2.0
PRODID:-//Pražský šachový svaz - ECPv4.5.13//NONSGML v1.0//EN
CALSCALE:GREGORIAN
METHOD:PUBLISH
X-WR-CALNAME:Pražský šachový svaz
X-ORIGINAL-URL:https://prazskysach.cz
X-WR-CALDESC:Events for Pražský šachový svaz
BEGIN:VEVENT
DTSTART;VALUE=DATE:20250628
DTEND;VALUE=DATE:20250706
DTSTAMP:20260424T152625
CREATED:20250308T155816Z
LAST-MODIFIED:20250308T155816Z
UID:12586-1751068800-1751846399@prazskysach.cz
SUMMARY:Open Klatovy
DESCRIPTION:Propozice ZDE. \n
URL:https://prazskysach.cz/kalendar/open-klatovy/
LOCATION:Klatovy
END:VEVENT
END:VCALENDAR