BEGIN:VCALENDAR
VERSION:2.0
PRODID:-//Pražský šachový svaz - ECPv4.5.13//NONSGML v1.0//EN
CALSCALE:GREGORIAN
METHOD:PUBLISH
X-WR-CALNAME:Pražský šachový svaz
X-ORIGINAL-URL:https://prazskysach.cz
X-WR-CALDESC:Events for Pražský šachový svaz
BEGIN:VEVENT
DTSTART;TZID=UTC+1:20250906T140000
DTEND;TZID=UTC+1:20250906T170000
DTSTAMP:20260421T105838
CREATED:20250901T175815Z
LAST-MODIFIED:20250930T183946Z
UID:13202-1757167200-1757178000@prazskysach.cz
SUMMARY:Blesk – Nové město
DESCRIPTION:Vážení milovníci šachu\, \nklub „Nové město“ vás srdečně zve na šachový bleskový turnaj\, který se uskuteční 6. září od 14 hodin v restauraci 2Baldies\, Sokolovská 979/209\, Praha 9 Vysočany\, jen pár kroků od metra Vysočanská. \nPlánujeme pořádat tyto turnaje každou první sobotu v měsíci. Na stejném místě ve stejný čas. O případných změnách harmonogramu vás budeme včas informovat. \nSystém turnaje bude každý s každým\, tedy každý účastník se postupně utká s ostatními v jednom nebo více kolech. Maximální počet účastníků je 16.\nStartovné činí 100 Kč při předběžné registraci\, pro ostatní 150 Kč. Cenový fond turnaje činí 90% vybraného startovného. \nAndrey Pochinkov\nt.778 043 188 \npochinkov1970@gmail.com \n
URL:https://prazskysach.cz/kalendar/blesk-nove-mesto-3/
LOCATION:Sokolovská 979/209\, Praha\, Česká republika
CATEGORIES:Turnaje
ORGANIZER;CN="Andrey%20Pochinkov":MAILTO:pochinkov1970@gmail.com
END:VEVENT
END:VCALENDAR