BEGIN:VCALENDAR
VERSION:2.0
PRODID:-//Pražský šachový svaz - ECPv4.5.13//NONSGML v1.0//EN
CALSCALE:GREGORIAN
METHOD:PUBLISH
X-WR-CALNAME:Pražský šachový svaz
X-ORIGINAL-URL:https://prazskysach.cz
X-WR-CALDESC:Events for Pražský šachový svaz
BEGIN:VEVENT
DTSTART;TZID=Europe/Prague:20250516T190000
DTEND;TZID=Europe/Prague:20250516T210000
DTSTAMP:20260420T115841
CREATED:20250418T095922Z
LAST-MODIFIED:20250418T095922Z
UID:12741-1747422000-1747429200@prazskysach.cz
SUMMARY:Bleskový turnaj Bohemians
DESCRIPTION:O bohemácký ručník 2025 (XII. ročník). Seriál otevřených bleskových turnajů pořádaný oddílem Bohemians. Propozice  ZDE \n
URL:https://prazskysach.cz/kalendar/bleskovy-turnaj-bohemians-65/
LOCATION:Slovenská 2\, Praha 10\, Hlavní město Praha\, 101 00\, Česká republika
CATEGORIES:Turnaje
END:VEVENT
END:VCALENDAR