BEGIN:VCALENDAR
VERSION:2.0
PRODID:-//Pražský šachový svaz - ECPv4.5.13//NONSGML v1.0//EN
CALSCALE:GREGORIAN
METHOD:PUBLISH
X-WR-CALNAME:Pražský šachový svaz
X-ORIGINAL-URL:https://prazskysach.cz
X-WR-CALDESC:Events for Pražský šachový svaz
BEGIN:VEVENT
DTSTART;VALUE=DATE:20260128
DTEND;VALUE=DATE:20260205
DTSTAMP:20260419T124516
CREATED:20251030T202511Z
LAST-MODIFIED:20251030T203129Z
UID:13427-1769558400-1770335999@prazskysach.cz
SUMMARY:Hurghada Open
DESCRIPTION:Vážení šachoví přátelé \nŠachová škola Chess Queen ve spolupráci se školou Phoenix vás zve na mezinárodní turnaj „Hurghada Open 2026“ v egyptské Hurghadě v době\n28.01.26 – 05.02.26. \nNabízíme šachové cestování: účast na turnaji lze pohodlně spojit s rodinnou dovolenou u moře🥳 \nZákladní informace:\n• Formát: otevřený turnaj\, švýcarský systém\, 9 kol\, 90+30; samostatné dny pro rapid a bleskový turnaj • Ubytování: hotelové možnosti ve formátu all inclusive; zajištěn je bezplatný transfer z letiště.\n• Registrace: do 20. 1. 2026; detaily a platby za ubytování viz Propozice.\n• Kontakt: queenchess2023@gmail.com\, +420 705 988 649. \nPROPOZICE ZDE \n
URL:https://prazskysach.cz/kalendar/hurghada-open/
CATEGORIES:Turnaje
ORGANIZER;CN="Chess%20Queen":MAILTO:zhazirasuraubay@gmail.com
END:VEVENT
END:VCALENDAR