BEGIN:VCALENDAR
VERSION:2.0
PRODID:-//Pražský šachový svaz - ECPv4.5.13//NONSGML v1.0//EN
CALSCALE:GREGORIAN
METHOD:PUBLISH
X-WR-CALNAME:Pražský šachový svaz
X-ORIGINAL-URL:https://prazskysach.cz
X-WR-CALDESC:Events for Pražský šachový svaz
BEGIN:VEVENT
DTSTART;TZID=Europe/Prague:20260201T100000
DTEND;TZID=Europe/Prague:20260201T150000
DTSTAMP:20260419T143912
CREATED:20250803T161044Z
LAST-MODIFIED:20250803T161044Z
UID:13046-1769940000-1769958000@prazskysach.cz
SUMMARY:I. liga - 7.kolo
DESCRIPTION:1. liga družstev  – dospělých. Skupina východ a západ. Každá skupina má 12 družstev. V tento termín se tedy hraje na 12 (2×6) místech. Odkaz na přehled ligových soutěží. \n
URL:https://prazskysach.cz/kalendar/i-liga-7-kolo-8/
CATEGORIES:Turnaje
ORGANIZER;CN="%C5%A0achov%C3%BD%20svaz%20%C4%8Cesk%C3%A9%20republiky":MAILTO:sekretariat@chess.cz
END:VEVENT
END:VCALENDAR