BEGIN:VCALENDAR
VERSION:2.0
PRODID:-//Pražský šachový svaz - ECPv4.5.13//NONSGML v1.0//EN
CALSCALE:GREGORIAN
METHOD:PUBLISH
X-WR-CALNAME:Pražský šachový svaz
X-ORIGINAL-URL:https://prazskysach.cz
X-WR-CALDESC:Events for Pražský šachový svaz
BEGIN:VEVENT
DTSTART;VALUE=DATE:20260612
DTEND;VALUE=DATE:20260614
DTSTAMP:20260420T103534
CREATED:20250803T174016Z
LAST-MODIFIED:20250803T174016Z
UID:13094-1781222400-1781481599@prazskysach.cz
SUMMARY:MČR družstev mladších žáků
DESCRIPTION:Turnaj pořádaný ŠSČR. Více na  stránkách ŠSČR.. \n
URL:https://prazskysach.cz/kalendar/mcr-druzstev-mladsich-zaku-4/
CATEGORIES:Turnaje
ORGANIZER;CN="%C5%A0achov%C3%BD%20svaz%20%C4%8Cesk%C3%A9%20republiky":MAILTO:sekretariat@chess.cz
END:VEVENT
END:VCALENDAR