BEGIN:VCALENDAR
VERSION:2.0
PRODID:-//Pražský šachový svaz - ECPv4.5.13//NONSGML v1.0//EN
CALSCALE:GREGORIAN
METHOD:PUBLISH
X-WR-CALNAME:Pražský šachový svaz
X-ORIGINAL-URL:https://prazskysach.cz
X-WR-CALDESC:Events for Pražský šachový svaz
BEGIN:VEVENT
DTSTART;TZID=UTC+1:20251129T103000
DTEND;TZID=UTC+1:20251129T173000
DTSTAMP:20260419T140509
CREATED:20251025T062940Z
LAST-MODIFIED:20251025T062940Z
UID:13409-1764412200-1764437400@prazskysach.cz
SUMMARY:Memoriál generála Hradila
DESCRIPTION:Unie armádních sportovních klubů a šachový oddíl TJ DUKLA Praha\nve spolupráci s Vojenskou zdravotní pojišťovnou 12. ročník\n„Memoriálu generála Jaroslava Hradila“ \nPROPOZICE ZDE \n
URL:https://prazskysach.cz/kalendar/memorial-generala-hradila-5/
LOCATION:Pod Juliskou 7\, Praha\, Hlavní město Praha\, Česká republika
ORGANIZER;CN="%C5%A0achov%C3%BD%20odd%C3%ADl%20TJ%20DUKLA%20Praha":MAILTO:poradim64@gmail.com
END:VEVENT
END:VCALENDAR