BEGIN:VCALENDAR
VERSION:2.0
PRODID:-//Pražský šachový svaz - ECPv4.5.13//NONSGML v1.0//EN
CALSCALE:GREGORIAN
METHOD:PUBLISH
X-WR-CALNAME:Pražský šachový svaz
X-ORIGINAL-URL:https://prazskysach.cz
X-WR-CALDESC:Events for Pražský šachový svaz
BEGIN:VEVENT
DTSTART;TZID=Europe/Prague:20251205T083000
DTEND;TZID=Europe/Prague:20251205T173000
DTSTAMP:20260420T144112
CREATED:20260419T141029Z
LAST-MODIFIED:20260419T141029Z
UID:14010-1764923400-1764955800@prazskysach.cz
SUMMARY:Mikulášská šachová nadílka
DESCRIPTION: Turnaj v rapid šachu pro mládež do 18-ti let. Propozice v přípravě. \n
URL:https://prazskysach.cz/kalendar/mikulasska-sachova-nadilka-8/
LOCATION:Štefánikova 13\, Praha 5\, Hlavní město Praha\, 150 00\, Česká republika
CATEGORIES:Turnaje
END:VEVENT
END:VCALENDAR