BEGIN:VCALENDAR
VERSION:2.0
PRODID:-//Pražský šachový svaz - ECPv4.5.13//NONSGML v1.0//EN
CALSCALE:GREGORIAN
METHOD:PUBLISH
X-WR-CALNAME:Pražský šachový svaz
X-ORIGINAL-URL:https://prazskysach.cz
X-WR-CALDESC:Events for Pražský šachový svaz
BEGIN:VEVENT
DTSTART;VALUE=DATE:20260425
DTEND;VALUE=DATE:20260426
DTSTAMP:20260420T104247
CREATED:20250803T174018Z
LAST-MODIFIED:20250803T174018Z
UID:13098-1777075200-1777247999@prazskysach.cz
SUMMARY:Mládežnické ligy
DESCRIPTION:Turnaj pořádaný ŠSČR. Více na  stránkách ŠSČR.. \n
URL:https://prazskysach.cz/kalendar/mladeznicke-ligy-4/
ORGANIZER;CN="%C5%A0achov%C3%BD%20svaz%20%C4%8Cesk%C3%A9%20republiky":MAILTO:sekretariat@chess.cz
END:VEVENT
END:VCALENDAR