BEGIN:VCALENDAR
VERSION:2.0
PRODID:-//Pražský šachový svaz - ECPv4.5.13//NONSGML v1.0//EN
CALSCALE:GREGORIAN
METHOD:PUBLISH
X-WR-CALNAME:Pražský šachový svaz
X-ORIGINAL-URL:https://prazskysach.cz
X-WR-CALDESC:Events for Pražský šachový svaz
BEGIN:VEVENT
DTSTART;TZID=UTC+1:20251004T100000
DTEND;TZID=UTC+1:20251004T150000
DTSTAMP:20260420T115839
CREATED:20250726T081045Z
LAST-MODIFIED:20250726T081045Z
UID:12993-1759572000-1759590000@prazskysach.cz
SUMMARY:O POHÁR STAROSTY - OBEC PRÁČE
DESCRIPTION:ŠACHOVÝ KLUB PRÁČE \, OBEC PRÁČE \, SK GPOA ZNOJMO Vás zvou na mezinárodní šachový turnaj jednotlivců O PUTOVNÍ POHÁR STAROSTY OBCE PRÁČE \n1.místo 10000Kč pohár + putovní pohár\n2.místo 5000Kč pohár\n3.místo 2000Kč pohár\nvedlejší výhry\, 9 kol tombola \nPropozice \n
URL:https://prazskysach.cz/kalendar/o-pohar-starosty-obec-prace/
LOCATION:Práče 7\, Práče\, Česká republika
CATEGORIES:Turnaje
END:VEVENT
END:VCALENDAR