BEGIN:VCALENDAR
VERSION:2.0
PRODID:-//Pražský šachový svaz - ECPv4.5.13//NONSGML v1.0//EN
CALSCALE:GREGORIAN
METHOD:PUBLISH
X-WR-CALNAME:Pražský šachový svaz
X-ORIGINAL-URL:https://prazskysach.cz
X-WR-CALDESC:Events for Pražský šachový svaz
BEGIN:VEVENT
DTSTART;TZID=Europe/Prague:20250423T180000
DTEND;TZID=Europe/Prague:20250423T220000
DTSTAMP:20260420T103318
CREATED:20250329T173543Z
LAST-MODIFIED:20250330T152804Z
UID:12650-1745431200-1745445600@prazskysach.cz
SUMMARY:O putovního koně
DESCRIPTION:47.ročník seriálu turnajů „O Putovního Koně Lokomotivy“ 2024/2025. Propozice ZDE. \n
URL:https://prazskysach.cz/kalendar/o-putovniho-kone-58/
LOCATION:Technická 2\, Praha\, Hlavní město Praha\, Česká republika
CATEGORIES:Turnaje
END:VEVENT
END:VCALENDAR