BEGIN:VCALENDAR
VERSION:2.0
PRODID:-//Pražský šachový svaz - ECPv4.5.13//NONSGML v1.0//EN
CALSCALE:GREGORIAN
METHOD:PUBLISH
X-WR-CALNAME:Pražský šachový svaz
X-ORIGINAL-URL:https://prazskysach.cz
X-WR-CALDESC:Events for Pražský šachový svaz
BEGIN:VEVENT
DTSTART;TZID=UTC+1:20250503T090000
DTEND;TZID=UTC+1:20250503T153000
DTSTAMP:20260419T140354
CREATED:20250102T201005Z
LAST-MODIFIED:20250102T201005Z
UID:12411-1746262800-1746286200@prazskysach.cz
SUMMARY:OAZA AKROP OPEN 2025
DESCRIPTION:Propozice ZDE: OAZA_AKROP_OPEN_2025 \n
URL:https://prazskysach.cz/kalendar/oaza-akrop-open-2025/
LOCATION:Jeremenkova 106\, Praha\, Hlavní město Praha\, 14053\, Česká republika
END:VEVENT
END:VCALENDAR