BEGIN:VCALENDAR
VERSION:2.0
PRODID:-//Pražský šachový svaz - ECPv4.5.13//NONSGML v1.0//EN
CALSCALE:GREGORIAN
METHOD:PUBLISH
X-WR-CALNAME:Pražský šachový svaz
X-ORIGINAL-URL:https://prazskysach.cz
X-WR-CALDESC:Events for Pražský šachový svaz
BEGIN:VEVENT
DTSTART;TZID=UTC+1:20260328T090000
DTEND;TZID=UTC+1:20260328T153000
DTSTAMP:20260419T153734
CREATED:20251101T092510Z
LAST-MODIFIED:20251101T092510Z
UID:13452-1774688400-1774711800@prazskysach.cz
SUMMARY:OAZA AKROP OPEN - 3. turnaj
DESCRIPTION:Propozice ZDE \n
URL:https://prazskysach.cz/kalendar/oaza-akrop-open-3-turnaj/
LOCATION:Jeremenkova 106\, Praha\, Hlavní město Praha\, 14053\, Česká republika
END:VEVENT
END:VCALENDAR