BEGIN:VCALENDAR
VERSION:2.0
PRODID:-//Pražský šachový svaz - ECPv4.5.13//NONSGML v1.0//EN
CALSCALE:GREGORIAN
METHOD:PUBLISH
X-WR-CALNAME:Pražský šachový svaz
X-ORIGINAL-URL:https://prazskysach.cz
X-WR-CALDESC:Events for Pražský šachový svaz
BEGIN:VEVENT
DTSTART;TZID=UTC+1:20191227T090000
DTEND;TZID=UTC+1:20191228T140000
DTSTAMP:20260421T140950
CREATED:20191217T190905Z
LAST-MODIFIED:20191217T190905Z
UID:8768-1577437200-1577541600@prazskysach.cz
SUMMARY:Pohár Černého pěšce Interchess
DESCRIPTION:Šachy Štěpán a MŠA Interchess Vás zvou na Mezinárodní šachový turnaj „Pohár Černého pěšce Interchess“. \nTurnaj se bude hrát švýcarským systémem na 8 kol\, tempem 20 minut a 5 sekund na tah pro každého hráče – celkem ve třech kategoriích:\ndo 8 let – hráčinarození v roce 2011 a mladší\,\ndo 10 let – hráči narození v roce 2009 a mladší\,\nnad 10 let – hráči narození v roce 2008 a starší. \nPropozice turnaje najdete zde. \nPřihlášky zasílejte do 21. 12. na premysl.hrbek@zs-stepanska.cz a v kopii na nareflexia2007@yandex.ru. \n
URL:https://prazskysach.cz/kalendar/pohar-cerneho-pesce-interchess/
LOCATION:Štěpánská 1286/8\, Praha 2\, Hlavní město Praha\, 120 00\, Česká republika
CATEGORIES:Turnaje
ORGANIZER;CN="%C5%A0achy%20%C5%A0t%C4%9Bp%C3%A1n":MAILTO:premysl.hrbek@zs-stepanska.cz
END:VEVENT
END:VCALENDAR