BEGIN:VCALENDAR
VERSION:2.0
PRODID:-//Pražský šachový svaz - ECPv4.5.13//NONSGML v1.0//EN
CALSCALE:GREGORIAN
METHOD:PUBLISH
X-WR-CALNAME:Pražský šachový svaz
X-ORIGINAL-URL:https://prazskysach.cz
X-WR-CALDESC:Events for Pražský šachový svaz
BEGIN:VEVENT
DTSTART;TZID=Europe/Prague:20260606T083000
DTEND;TZID=Europe/Prague:20260606T170000
DTSTAMP:20260420T144125
CREATED:20260419T141027Z
LAST-MODIFIED:20260419T141027Z
UID:14006-1780734600-1780765200@prazskysach.cz
SUMMARY:Pražského přeboru 4-členných družstev
DESCRIPTION:Turnaj Pražského přeboru 4-členných družstev dospělých v rapid-šachu s postupem na Mistrovství ČR. Propozice v přípravě. \n
URL:https://prazskysach.cz/kalendar/prazskeho-preboru-4-clennych-druzstev/
LOCATION:Štefánikova 13\, Praha 5\, Hlavní město Praha\, 150 00\, Česká republika
CATEGORIES:Turnaje
END:VEVENT
END:VCALENDAR