BEGIN:VCALENDAR
VERSION:2.0
PRODID:-//Pražský šachový svaz - ECPv4.5.13//NONSGML v1.0//EN
CALSCALE:GREGORIAN
METHOD:PUBLISH
X-WR-CALNAME:Pražský šachový svaz
X-ORIGINAL-URL:https://prazskysach.cz
X-WR-CALDESC:Events for Pražský šachový svaz
BEGIN:VEVENT
DTSTART;TZID=UTC+1:20250423T173000
DTEND;TZID=UTC+1:20250423T223000
DTSTAMP:20260419T140605
CREATED:20250408T194716Z
LAST-MODIFIED:20250408T194808Z
UID:12698-1745429400-1745447400@prazskysach.cz
SUMMARY:Přebor Prahy jednotlivců - Rejfířův memoriál - 2. kolo
DESCRIPTION:\nvíce ZDE\n\n
URL:https://prazskysach.cz/kalendar/prebor-prahy-jednotlivcu-rejfiruv-memorial-2-kolo/
END:VEVENT
END:VCALENDAR