BEGIN:VCALENDAR
VERSION:2.0
PRODID:-//Pražský šachový svaz - ECPv4.5.13//NONSGML v1.0//EN
CALSCALE:GREGORIAN
METHOD:PUBLISH
X-WR-CALNAME:Pražský šachový svaz
X-ORIGINAL-URL:https://prazskysach.cz
X-WR-CALDESC:Events for Pražský šachový svaz
BEGIN:VEVENT
DTSTART;TZID=UTC+1:20250618T173000
DTEND;TZID=UTC+1:20250618T223000
DTSTAMP:20260419T143626
CREATED:20250408T201116Z
LAST-MODIFIED:20250408T201116Z
UID:12712-1750267800-1750285800@prazskysach.cz
SUMMARY:Přebor Prahy jednotlivců - Rejfířův memoriál - 9. kolo
DESCRIPTION:\nvíce ZDE\n\n
URL:https://prazskysach.cz/kalendar/prebor-prahy-jednotlivcu-rejfiruv-memorial-9-kolo/
END:VEVENT
END:VCALENDAR