BEGIN:VCALENDAR
VERSION:2.0
PRODID:-//Pražský šachový svaz - ECPv4.5.13//NONSGML v1.0//EN
CALSCALE:GREGORIAN
METHOD:PUBLISH
X-WR-CALNAME:Pražský šachový svaz
X-ORIGINAL-URL:https://prazskysach.cz
X-WR-CALDESC:Events for Pražský šachový svaz
BEGIN:VEVENT
DTSTART;TZID=Europe/Prague:20210407T170000
DTEND;TZID=Europe/Prague:20210407T190000
DTSTAMP:20260419T132637
CREATED:20210321T111426Z
LAST-MODIFIED:20210329T125858Z
UID:9729-1617814800-1617822000@prazskysach.cz
SUMMARY:Přebor Prahy mládež blesk
DESCRIPTION:Přebor Prahy mládeže v online bleskovém šachu. Propozice ZDE. Klub PŠS mládež na chess.com ZDE. \n
URL:https://prazskysach.cz/kalendar/prebor-prahy-online-blesk-3/
CATEGORIES:Turnaje
END:VEVENT
END:VCALENDAR