BEGIN:VCALENDAR
VERSION:2.0
PRODID:-//Pražský šachový svaz - ECPv4.5.13//NONSGML v1.0//EN
CALSCALE:GREGORIAN
METHOD:PUBLISH
X-WR-CALNAME:Pražský šachový svaz
X-ORIGINAL-URL:https://prazskysach.cz
X-WR-CALDESC:Events for Pražský šachový svaz
BEGIN:VEVENT
DTSTART;TZID=Europe/Prague:20210414T170000
DTEND;TZID=Europe/Prague:20210414T190000
DTSTAMP:20260419T143954
CREATED:20210321T111427Z
LAST-MODIFIED:20210329T125753Z
UID:9730-1618419600-1618426800@prazskysach.cz
SUMMARY:Přebor Prahy mládež blesk
DESCRIPTION:Přebor Prahy mládeže v online bleskovém šachu. Propozice ZDE. Klub PŠS mládež na chess.com ZDE. \n
URL:https://prazskysach.cz/kalendar/prebor-prahy-online-blesk-4/
CATEGORIES:Turnaje
END:VEVENT
END:VCALENDAR