BEGIN:VCALENDAR
VERSION:2.0
PRODID:-//Pražský šachový svaz - ECPv4.5.13//NONSGML v1.0//EN
CALSCALE:GREGORIAN
METHOD:PUBLISH
X-WR-CALNAME:Pražský šachový svaz
X-ORIGINAL-URL:https://prazskysach.cz
X-WR-CALDESC:Events for Pražský šachový svaz
BEGIN:VEVENT
DTSTART;TZID=Europe/Prague:20260611T200000
DTEND;TZID=Europe/Prague:20260611T223000
DTSTAMP:20260420T115015
CREATED:20260419T143017Z
LAST-MODIFIED:20260419T143017Z
UID:14021-1781208000-1781217000@prazskysach.cz
SUMMARY:Rapid – Brix Bar & Hostel
DESCRIPTION:Rapid turnaj. 7 kol. Tempo 10+0. Odměna pro vítěze 300 korunový kupón pro útratu na baru. \n
URL:https://prazskysach.cz/kalendar/rapid-brix-bar-hostel-15/
CATEGORIES:Turnaje
END:VEVENT
END:VCALENDAR