BEGIN:VCALENDAR
VERSION:2.0
PRODID:-//Pražský šachový svaz - ECPv4.5.13//NONSGML v1.0//EN
CALSCALE:GREGORIAN
METHOD:PUBLISH
X-WR-CALNAME:Pražský šachový svaz
X-ORIGINAL-URL:https://prazskysach.cz
X-WR-CALDESC:Events for Pražský šachový svaz
BEGIN:VEVENT
DTSTART;VALUE=DATE:20250811
DTEND;VALUE=DATE:20250815
DTSTAMP:20260422T174051
CREATED:20250501T164612Z
LAST-MODIFIED:20250501T164612Z
UID:12787-1754870400-1755302399@prazskysach.cz
SUMMARY:Příměstský tábor Na Smetance
DESCRIPTION:Příměstský tábor na Smetance pod vedením trenéra Jana Sourala otevřený i dětem z jiných klubů. Propozice viz odkaz. \n
URL:https://prazskysach.cz/kalendar/primestsky-tabor-na-smetance/
LOCATION:Na Smetance 505/1\, Praha\, Praha\, Česká republika
CATEGORIES:Soustředění,Tábor,Turnaje
ORGANIZER;CN="%C5%A0K%20Na%20Smetance":MAILTO:sachynasmetance@gmail.com
END:VEVENT
END:VCALENDAR