BEGIN:VCALENDAR
VERSION:2.0
PRODID:-//Pražský šachový svaz - ECPv4.5.13//NONSGML v1.0//EN
CALSCALE:GREGORIAN
METHOD:PUBLISH
X-WR-CALNAME:Pražský šachový svaz
X-ORIGINAL-URL:https://prazskysach.cz
X-WR-CALDESC:Events for Pražský šachový svaz
BEGIN:VEVENT
DTSTART;VALUE=DATE:20250614
DTEND;VALUE=DATE:20250615
DTSTAMP:20260419T211434
CREATED:20250607T110855Z
LAST-MODIFIED:20250607T110911Z
UID:12873-1749859200-1750031999@prazskysach.cz
SUMMARY:MČR v řešení skladeb
DESCRIPTION:Více na \nhttp://problem64.beda.cz/mmcr2025/info.htm \n  \n
URL:https://prazskysach.cz/kalendar/mcr-v-reseni-skladeb/
LOCATION:Zátokova 100/2\, Praha
CATEGORIES:Soutěž
END:VEVENT
END:VCALENDAR