BEGIN:VCALENDAR
VERSION:2.0
PRODID:-//Pražský šachový svaz - ECPv4.5.13//NONSGML v1.0//EN
CALSCALE:GREGORIAN
METHOD:PUBLISH
X-WR-CALNAME:Pražský šachový svaz
X-ORIGINAL-URL:https://prazskysach.cz
X-WR-CALDESC:Events for Pražský šachový svaz
BEGIN:VEVENT
DTSTART;TZID=UTC+1:20250830T083000
DTEND;TZID=UTC+1:20250831T153000
DTSTAMP:20260419T174437
CREATED:20250726T133710Z
LAST-MODIFIED:20250726T134330Z
UID:13005-1756542600-1756654200@prazskysach.cz
SUMMARY:UCT Chess festival - Standard
DESCRIPTION:Turnaj FIDE STANDARD ve formátu 30+30 na 7 kol. \nMaximální povolené hodnocení FRL standard účastníka je 1799 bodů. \nZápočet akce na FRL standard a LOK standard \nV sobotu se odehrají 4 kola\, v neděli zbývající 3 kola.\nSouběžně s turnajem se pořádají FIDE RAPID & FIDE BLITZ \nRegistrační formulář zde \nPropozice turnaje zde\n \n
URL:https://prazskysach.cz/kalendar/uct-chess-festival-standard/
LOCATION:Jankovcova 1114/23\, Praha\, 17000\, Česká republika
CATEGORIES:Soutěž,Turnaje
ORGANIZER;CN="%C5%A0achov%C3%BD%20Klub%20V%C5%A0CHT":MAILTO:vschtchessclub@gmail.com
END:VEVENT
END:VCALENDAR