BEGIN:VCALENDAR
VERSION:2.0
PRODID:-//Pražský šachový svaz - ECPv4.5.13//NONSGML v1.0//EN
CALSCALE:GREGORIAN
METHOD:PUBLISH
X-WR-CALNAME:Pražský šachový svaz
X-ORIGINAL-URL:https://prazskysach.cz
X-WR-CALDESC:Events for Pražský šachový svaz
BEGIN:VEVENT
DTSTART;TZID=UTC+1:20251130T083000
DTEND;TZID=UTC+1:20251130T143000
DTSTAMP:20260419T140605
CREATED:20251030T094856Z
LAST-MODIFIED:20251030T100447Z
UID:13421-1764491400-1764513000@prazskysach.cz
SUMMARY:Šachové hvězdičky - turnaj pro dívky
DESCRIPTION:Milé hráčky\, \nSK OAZA Praha Vás zve na šachový turnaj pro hráčky ročník 2019 a mladší\, popř. hráčky s ročníkem 2018 a 2017\, pro které se bude jednat o první turnaj. Ceny s šachovou tématikou pro všechny hráčky. \nTurnaj se bude konat v neděli 30.11.2025  v zadní budově OAZY (v hlavní zasedací místnosti se bude konat extraliga\, na kterou jste též zváni). Na všechny mladé účastnice se těší ředitelka turnaje Lilian Vlachynská a rozhodčí Honza Soural. \nPropozice: 20251130_Šachové hvězdičky.pdf \n
URL:https://prazskysach.cz/kalendar/sachove-hvezdicky-turnaj-pro-divky/
LOCATION:Jeremenkova 106\, Praha\, Hlavní město Praha\, 14053\, Česká republika
END:VEVENT
END:VCALENDAR