BEGIN:VCALENDAR
VERSION:2.0
PRODID:-//Pražský šachový svaz - ECPv4.5.13//NONSGML v1.0//EN
CALSCALE:GREGORIAN
METHOD:PUBLISH
X-WR-CALNAME:Pražský šachový svaz
X-ORIGINAL-URL:https://prazskysach.cz
X-WR-CALDESC:Events for Pražský šachový svaz
BEGIN:VEVENT
DTSTART;TZID=UTC+1:20251101T080000
DTEND;TZID=UTC+1:20251101T163000
DTSTAMP:20260419T142143
CREATED:20251018T121956Z
LAST-MODIFIED:20251018T121956Z
UID:13406-1761984000-1762014600@prazskysach.cz
SUMMARY:Školení rozhodčích R3
DESCRIPTION:Školení rozhodčích organizované Středočeským šachovým svazem \nPropozice  \n  \n  \n
URL:https://prazskysach.cz/kalendar/skoleni-rozhodcich-r3/
LOCATION:Masarykova 16\, Čelákovice
CATEGORIES:Školení
END:VEVENT
END:VCALENDAR