BEGIN:VCALENDAR
VERSION:2.0
PRODID:-//Pražský šachový svaz - ECPv4.5.13//NONSGML v1.0//EN
CALSCALE:GREGORIAN
METHOD:PUBLISH
X-WR-CALNAME:Pražský šachový svaz
X-ORIGINAL-URL:https://prazskysach.cz
X-WR-CALDESC:Events for Pražský šachový svaz
BEGIN:VEVENT
DTSTART;TZID=UTC+1:20250830T083000
DTEND;TZID=UTC+1:20250830T120000
DTSTAMP:20260419T184729
CREATED:20250726T134303Z
LAST-MODIFIED:20250726T134303Z
UID:13012-1756542600-1756555200@prazskysach.cz
SUMMARY:UCT Chess festival - BLITZ
DESCRIPTION:Turnaj FIDE BLITZ ve formátu 5+3 na 8 kol. \nZápočet akce na FRL blitz \nSouběžně s turnajem se pořádají FIDE STANDARD a FIDE RAPID\, jehož začátek časově navazuje na konec blitz turnaje. \nRegistrační formulář zde \nPropozice turnaje zde \n
URL:https://prazskysach.cz/kalendar/uct-chess-festival-blitz/
LOCATION:Jankovcova 1114/23\, Praha\, 17000\, Česká republika
ORGANIZER;CN="%C5%A0achov%C3%BD%20Klub%20V%C5%A0CHT":MAILTO:vschtchessclub@gmail.com
END:VEVENT
END:VCALENDAR