BEGIN:VCALENDAR
VERSION:2.0
PRODID:-//Pražský šachový svaz - ECPv4.5.13//NONSGML v1.0//EN
CALSCALE:GREGORIAN
METHOD:PUBLISH
X-WR-CALNAME:Pražský šachový svaz
X-ORIGINAL-URL:https://prazskysach.cz
X-WR-CALDESC:Events for Pražský šachový svaz
BEGIN:VEVENT
DTSTART;TZID=UTC+1:20250712T090000
DTEND;TZID=UTC+1:20250712T170000
DTSTAMP:20260420T085240
CREATED:20250604T203632Z
LAST-MODIFIED:20250610T133500Z
UID:12868-1752310800-1752339600@prazskysach.cz
SUMMARY:UCT Rapid
DESCRIPTION:Šachový Klub VŠCHT vás zve na FIDE RAPID turnaj \nTurnaj se bude hrát na 7 kol formátem 15+5. \nVeškeré informace o turnaji – propozice\, něco o Klubu\, registrační formulář … naleznete na odkazu níže.\nODKAZ\nRegistrační formulář \nV případě jakéhokoliv dotazu neváhejte kontaktovat organizátora\nna emailu sachybroz@seznam.cz\ntelefonicky na čísle 773 290 798 \nSouběžně v budově bude probíhat turnaj FIDE standard ve formátu 30+30 \n
URL:https://prazskysach.cz/kalendar/uct-rapid/
LOCATION:Jankovcova 1114/23\, Praha\, 17000\, Česká republika
ORGANIZER;CN="%C5%A0achov%C3%BD%20Klub%20V%C5%A0CHT":MAILTO:vschtchessclub@gmail.com
END:VEVENT
END:VCALENDAR