BEGIN:VCALENDAR
VERSION:2.0
PRODID:-//Pražský šachový svaz - ECPv4.5.13//NONSGML v1.0//EN
CALSCALE:GREGORIAN
METHOD:PUBLISH
X-WR-CALNAME:Pražský šachový svaz
X-ORIGINAL-URL:https://prazskysach.cz
X-WR-CALDESC:Events for Pražský šachový svaz
BEGIN:VEVENT
DTSTART;TZID=UTC+1:20260117T130000
DTEND;TZID=UTC+1:20260117T183000
DTSTAMP:20260419T153745
CREATED:20250908T153658Z
LAST-MODIFIED:20250908T154034Z
UID:13232-1768654800-1768674600@prazskysach.cz
SUMMARY:ÚJEZDSKÝ POLOLETNÍ RAPID
DESCRIPTION:Šachový spoelk Újezd nad Lesy ve spolupráci s Domem Dětí a Mládeže\npořádají\nÚJEZDSKÝ POLOLETNÍ RAPID 2026\npro děti narozené roku 2010 a mladší \nPropozice ZDE \n
URL:https://prazskysach.cz/kalendar/ujezdsky-pololetni-rapid/
LOCATION:Staroújezdská 2300\, Újezd na Lesy
CATEGORIES:Turnaje
END:VEVENT
END:VCALENDAR