BEGIN:VCALENDAR
VERSION:2.0
PRODID:-//Pražský šachový svaz - ECPv4.5.13//NONSGML v1.0//EN
CALSCALE:GREGORIAN
METHOD:PUBLISH
X-WR-CALNAME:Pražský šachový svaz
X-ORIGINAL-URL:https://prazskysach.cz
X-WR-CALDESC:Events for Pražský šachový svaz
BEGIN:VEVENT
DTSTART;TZID=UTC+1:20210403T160000
DTEND;TZID=UTC+1:20210403T200000
DTSTAMP:20260419T124813
CREATED:20210303T215902Z
LAST-MODIFIED:20210303T215902Z
UID:9688-1617465600-1617480000@prazskysach.cz
SUMMARY:Velká cena -online
DESCRIPTION:Online soutěže ŠSČR – přihlášky \n \n
URL:https://prazskysach.cz/kalendar/velka-cena-online-5/
CATEGORIES:Turnaje
ORGANIZER;CN="%C5%A0achov%C3%BD%20svaz%20%C4%8Cesk%C3%A9%20republiky":MAILTO:sekretariat@chess.cz
END:VEVENT
END:VCALENDAR