BEGIN:VCALENDAR
VERSION:2.0
PRODID:-//Pražský šachový svaz - ECPv4.5.13//NONSGML v1.0//EN
CALSCALE:GREGORIAN
METHOD:PUBLISH
X-WR-CALNAME:Pražský šachový svaz
X-ORIGINAL-URL:https://prazskysach.cz
X-WR-CALDESC:Events for Pražský šachový svaz
BEGIN:VEVENT
DTSTART;VALUE=DATE:20250802
DTEND;VALUE=DATE:20250809
DTSTAMP:20260420T103258
CREATED:20250629T202508Z
LAST-MODIFIED:20250629T202508Z
UID:12964-1754092800-1754783999@prazskysach.cz
SUMMARY:Znojemská rotunda
DESCRIPTION:Propozice \nZjednodušené propozice – pozvánka \nPřihlášky – online formulář \nStartovní listina \nWeb festivalu \nFacebook \n
URL:https://prazskysach.cz/kalendar/znojemska-rotunda/
LOCATION:Loucký klášter\, Znojmo\, Jihomoravský\, 671 81\, Česká republika
CATEGORIES:Turnaje
END:VEVENT
END:VCALENDAR