Workbook
Name ehraci: DBčlenůŠSČR!$M$25604
Name ELOCR: DBčlenůŠSČR!$D$2:$D$25604
Name ELOFIDE: DBčlenůŠSČR!$E$2:$E$25604
Name enikluby: soupiska!$AI$650
Name Ev_c_LOK: DBčlenůŠSČR!$A$2:$A$25604
Name evyMaska: DBčlenůŠSČR!$L$25604
Name FED: DBčlenůŠSČR!$H$2:$H$25604
Name FEvCis: DBčlenůŠSČR!$F$2:$F$25604
Name HCas: číselníky!$D$2:$D$9
Name HDen: číselníky!$C$2:$C$8
Name ihraci: DBčlenůŠSČR!$M$2:$M$25604
Name ikluby: soupiska!$AI$2:$AI$650
Name Jmeno: DBčlenůŠSČR!$B$2:$B$25604
Name kododd: soupiska!$H$45
Name KodOddilu: DBčlenůŠSČR!$J$2:$J$25604
Name kokr: číselníky!$E$2:$E$15
Name Kraj: DBčlenůŠSČR!$I$2:$I$25604
Name kraje: číselníky!$G$2:$G$15
Name krajod: soupiska!$AK$2:$AK$650
Name krokodil: číselníky!$H$2:$H$492
Name NazevOddil: DBčlenůŠSČR!$K$2:$K$25604
Name Oddil: číselníky!$I$2:$I$492
Name ohraci: DBčlenůŠSČR!$N$1:$N$501
Name RegPopl: DBčlenůŠSČR!$G$2:$G$25604
Name rocnik: číselníky!$A$2:$A$10
Name RokNar: DBčlenůŠSČR!$C$2:$C$25604
Name soutez: číselníky!$B$2:$B$10
Name vohraci: DBčlenůŠSČR!$N$2:$O$501
Name vybecis: soupiska!$AF$8:$AF$30
Name vyberHrace: soupiska!$M$7
Name vyMaska: DBčlenůŠSČR!$L$2:$L$25604
Name zkraj: číselníky!$E$2:$F$15

Sheet soupiska
A1: S O U P I S K A pro soutěž šachových družstev | AJ1: 0
E2: =IF(OR(F6="Extraliga",F6="1. liga",F6="2. liga",F6=""),"Šachový svaz České republiky",IF(ISERROR(MID(INDEX(kraje,MATCH(MID(H45,1,2),kokr,0)),4,LEN(INDEX(kraje,MATCH(MID(H45,1,2),kokr,0)))-3)),"",MID(INDEX(kraje,MATCH(MID(H45,1,2),kokr,0)),4,LEN(INDEX(kraje,MATCH(MID(H45,1,2),kokr,0)))-3))) -> Šachový svaz České republiky | M2: Uživatelská nápověda | AI2: =AND($P$44<>"",ISNUMBER(SEARCH(MID($P$44,1,2),číselníky!H2))) -> TRUE | AJ2: =MATCH(TRUE,INDEX(ikluby,$AJ1+1):enikluby,0)+$AJ1 -> 1 | AK2: =IF(ISNUMBER(AJ2),INDEX(Oddil,AJ2),"") -> 11001 TJ Bohemians Praha
AI3: =AND($P$44<>"",ISNUMBER(SEARCH(MID($P$44,1,2),číselníky!H3))) -> TRUE | AJ3: =MATCH(TRUE,INDEX(ikluby,$AJ2+1):enikluby,0)+$AJ2 -> 2 | AK3: =IF(ISNUMBER(AJ3),INDEX(Oddil,AJ3),"") -> 11002 ŠK Sokol Vyšehrad
E4: název družstva: | AI4: =AND($P$44<>"",ISNUMBER(SEARCH(MID($P$44,1,2),číselníky!H4))) -> TRUE | AJ4: =MATCH(TRUE,INDEX(ikluby,$AJ3+1):enikluby,0)+$AJ3 -> 3 | AK4: =IF(ISNUMBER(AJ4),INDEX(Oddil,AJ4),"") -> 11004 ŠK Dopravní podnik Praha
AI5: =AND($P$44<>"",ISNUMBER(SEARCH(MID($P$44,1,2),číselníky!H5))) -> TRUE | AJ5: =MATCH(TRUE,INDEX(ikluby,$AJ4+1):enikluby,0)+$AJ4 -> 4 | AK5: =IF(ISNUMBER(AJ5),INDEX(Oddil,AJ5),"") -> 11006 TJ Pankrác
E6: platnost pro soutěž: | J6: 2026-2027 | AI6: =AND($P$44<>"",ISNUMBER(SEARCH(MID($P$44,1,2),číselníky!H6))) -> TRUE | AJ6: =MATCH(TRUE,INDEX(ikluby,$AJ5+1):enikluby,0)+$AJ5 -> 5 | AK6: =IF(ISNUMBER(AJ6),INDEX(Oddil,AJ6),"") -> 11008 USK Praha
AI7: =AND($P$44<>"",ISNUMBER(SEARCH(MID($P$44,1,2),číselníky!H7))) -> TRUE | AJ7: =MATCH(TRUE,INDEX(ikluby,$AJ6+1):enikluby,0)+$AJ6 -> 6 | AK7: =IF(ISNUMBER(AJ7),INDEX(Oddil,AJ7),"") -> 11010 Šachový klub Loko Praha
A8: č. | B8: VHC | C8: Zet | D8: typ | E8: příjmení a jméno hráče | F8: ročník narození | G8: Ev.č. LOK | H8: ELO ČR | I8: Ev.č. FIDE | J8: ELO FIDE | M8: příjmení a jméno hráče | N8: ročník narození | O8: Ev.č. LOK | P8: Oddíl | Q8: pokyny pro vyplňování: | AA8: 0 | AB8: =VALUE(MID(vyberHrace,1,4)) -> #VALUE! | AI8: =AND($P$44<>"",ISNUMBER(SEARCH(MID($P$44,1,2),číselníky!H8))) -> TRUE | AJ8: =MATCH(TRUE,INDEX(ikluby,$AJ7+1):enikluby,0)+$AJ7 -> 7 | AK8: =IF(ISNUMBER(AJ8),INDEX(Oddil,AJ8),"") -> 11011 TJ Sokol Praha-Vršovice
A9: 1 | B9: =AL9 | C9: =AP9 | D9: =AQ9 | E9: =IF(G9="","",IF(ISNUMBER(MATCH(G9,Ev_c_LOK,0)),INDEX(Jmeno,MATCH(G9,Ev_c_LOK,0)),"")) | F9: =IF(G9="","",IF(ISNUMBER(MATCH(G9,Ev_c_LOK,0)),INDEX(RokNar,MATCH(G9,Ev_c_LOK,0)),"")) | H9: =IF(ISNUMBER(INDEX(ELOCR,MATCH(G9,Ev_c_LOK,0))),INDEX(ELOCR,MATCH(G9,Ev_c_LOK,0)),"") | I9: =IF(ISNUMBER(INDEX(FEvCis,MATCH(G9,Ev_c_LOK,0))),INDEX(FEvCis,MATCH(G9,Ev_c_LOK,0)),"") | J9: =IF(ISNUMBER(INDEX(ELOFIDE,MATCH(G9,Ev_c_LOK,0))),INDEX(ELOFIDE,MATCH(G9,Ev_c_LOK,0)),"") | K9: =CONCATENATE(AG9,AH9) | M9: =IF(ISNUMBER($AA$9),INDEX(Jmeno,$AA$9),"") | N9: =IF(ISNUMBER($AA$9),INDEX(RokNar,$AA$9),"") | O9: =IF(ISNUMBER($AA$9),INDEX(Ev_c_LOK,$AA$9),"") | P9: =IF(ISNUMBER($AA$9),INDEX(NazevOddil,$AA$9),"") | AA9: =IF(vyberHrace<>"",IF(ISNUMBER($AB$8),VLOOKUP(vyberHrace,vohraci,2,FALSE),MATCH(TRUE,INDEX(vyMaska,$AA8+1):evyMaska,0)+$AA8),"") | AB9: =IF(ISNUMBER($AA9),INDEX(RegPopl,$AA9),"") | AC9: =IF(ISNUMBER($AA9),INDEX(Kraj,$AA9),"") | AD9: =IF(ISNUMBER($AA9),INDEX(KodOddilu,$AA9),"") | AE9: =IF(ISNUMBER($AA9),INDEX(NazevOddil,$AA9),"") | AF9: =IF(ISNUMBER($AA$9),INDEX(Ev_c_LOK,$AA$9),"") | AG9: =IF(AND(E9="",G9=""),"",IF(ISNUMBER(MATCH(G9,Ev_c_LOK,0)),IF(AND(E9=INDEX(Jmeno,MATCH(G9,Ev_c_LOK,0)),F9=INDEX(RokNar,MATCH(G9,Ev_c_LOK,0))),IF(INDEX(NazevOddil,MATCH(G9,Ev_c_LOK,0))<>$H$47,IF(INDEX(RegPopl,MATCH(G9,Ev_c_LOK,0))=0,CONCATENATE("je členem ",INDEX(NazevOddil,MATCH(G9,Ev_c_LOK,0))," a je neaktivní"),CONCATENATE("je členem ",INDEX(NazevOddil,MATCH(G9,Ev_c_LOK,0)))),IF(INDEX(RegPopl,MATCH(G9,Ev_c_LOK,0))>0,"","je neaktivní")),"jméno nebo/a rok narození neodpovídá Ev.č. LOK"),"není registrován v ŠSČR")) | AH9: =IF(OR(COUNTIF($G$9:$G$28,$G9)>1,AND($I9<>"",COUNTIF($I$9:$I$28,$I9)>1))," - duplicita ID"," ") | AI9: =AND($P$44<>"",ISNUMBER(SEARCH(MID($P$44,1,2),číselníky!H9))) -> TRUE | AJ9: =MATCH(TRUE,INDEX(ikluby,$AJ8+1):enikluby,0)+$AJ8 -> 8 | AK9: =IF(ISNUMBER(AJ9),INDEX(Oddil,AJ9),"") -> 11012 Šachový klub Viktoria Žižkov | AL9: =IF(OR(E9="",K9="není registrován v ŠSČR "),"",IF(INDEX(FED,MATCH(G9,Ev_c_LOK,0))<>"CZE","C",IF(CONCATENATE(INDEX(Kraj,MATCH(G9,Ev_c_LOK,0)),INDEX(KodOddilu,MATCH(G9,Ev_c_LOK,0)))<>$H$45,"H",""))) | AM9: =COUNTIF(B9,"V")+COUNTIF(B9,"H")+COUNTIF(B9,"C") -> 0 | AN9: =IF(AND(AM9>3,OR(B9="V",B9="H",B9="C")),"","Z") -> Z | AO9: =COUNTIF(AN9,"Z") -> 1 | AP9: =IF(AND(E9<>"",AO9<9,AN9="Z"),"Z","") | AQ9: =IF(AND(B9="",C9=""),"",IF(AND(B9<>"",C9=""),B9,IF(AND(B9<>"",C9<>""),CONCATENATE(B9,",",C9),IF(AND(B9="",C9<>""),CONCATENATE(" -,",C9)))))
A10: 2 | B10: =AL10 | C10: =AP10 | D10: =AQ10 | E10: =IF(G10="","",IF(ISNUMBER(MATCH(G10,Ev_c_LOK,0)),INDEX(Jmeno,MATCH(G10,Ev_c_LOK,0)),"")) | F10: =IF(G10="","",IF(ISNUMBER(MATCH(G10,Ev_c_LOK,0)),INDEX(RokNar,MATCH(G10,Ev_c_LOK,0)),"")) | H10: =IF(ISNUMBER(INDEX(ELOCR,MATCH(G10,Ev_c_LOK,0))),INDEX(ELOCR,MATCH(G10,Ev_c_LOK,0)),"") | I10: =IF(ISNUMBER(INDEX(FEvCis,MATCH(G10,Ev_c_LOK,0))),INDEX(FEvCis,MATCH(G10,Ev_c_LOK,0)),"") | J10: =IF(ISNUMBER(INDEX(ELOFIDE,MATCH(G10,Ev_c_LOK,0))),INDEX(ELOFIDE,MATCH(G10,Ev_c_LOK,0)),"") | K10: =CONCATENATE(AG10,AH10) | M10: =IF(ISNUMBER($AA$10),INDEX(Jmeno,$AA$10),"") | N10: =IF(ISNUMBER($AA$10),INDEX(RokNar,$AA$10),"") | O10: =IF(ISNUMBER($AA$10),INDEX(Ev_c_LOK,$AA$10),"") | P10: =IF(ISNUMBER($AA$10),INDEX(NazevOddil,$AA$10),"") | Q10: - povinné údaje o hráči jsou typ, příjmení a jméno hráče, ročník narození, Ev.č. LOK (u cizince Ev.č. FIDE) | AA10: =MATCH(TRUE,INDEX(vyMaska,$AA9+1):evyMaska,0)+$AA9 -> #VALUE! | AB10: =IF(ISNUMBER($AA10),INDEX(RegPopl,$AA10),"") | AC10: =IF(ISNUMBER($AA10),INDEX(Kraj,$AA10),"") | AD10: =IF(ISNUMBER($AA10),INDEX(KodOddilu,$AA10),"") | AE10: =IF(ISNUMBER($AA10),INDEX(NazevOddil,$AA10),"") | AF10: =IF(ISNUMBER($AA$10),INDEX(Ev_c_LOK,$AA$10),"") | AG10: =IF(AND(E10="",G10=""),"",IF(ISNUMBER(MATCH(G10,Ev_c_LOK,0)),IF(AND(E10=INDEX(Jmeno,MATCH(G10,Ev_c_LOK,0)),F10=INDEX(RokNar,MATCH(G10,Ev_c_LOK,0))),IF(INDEX(NazevOddil,MATCH(G10,Ev_c_LOK,0))<>$H$47,IF(INDEX(RegPopl,MATCH(G10,Ev_c_LOK,0))=0,CONCATENATE("je členem ",INDEX(NazevOddil,MATCH(G10,Ev_c_LOK,0))," a je neaktivní"),CONCATENATE("je členem ",INDEX(NazevOddil,MATCH(G10,Ev_c_LOK,0)))),IF(INDEX(RegPopl,MATCH(G10,Ev_c_LOK,0))>0,"","je neaktivní")),"jméno nebo/a rok narození neodpovídá Ev.č. LOK"),"není registrován v ŠSČR")) | AH10: =IF(OR(COUNTIF($G$9:$G$28,$G10)>1,AND($I10<>"",COUNTIF($I$9:$I$28,$I10)>1))," - duplicita ID"," ") | AI10: =AND($P$44<>"",ISNUMBER(SEARCH(MID($P$44,1,2),číselníky!H10))) -> TRUE | AJ10: =MATCH(TRUE,INDEX(ikluby,$AJ9+1):enikluby,0)+$AJ9 -> 9 | AK10: =IF(ISNUMBER(AJ10),INDEX(Oddil,AJ10),"") -> 11014 SK OAZA Praha | AL10: =IF(OR(E10="",K10="není registrován v ŠSČR "),"",IF(INDEX(FED,MATCH(G10,Ev_c_LOK,0))<>"CZE","C",IF(CONCATENATE(INDEX(Kraj,MATCH(G10,Ev_c_LOK,0)),INDEX(KodOddilu,MATCH(G10,Ev_c_LOK,0)))<>$H$45,"H",""))) | AM10: =COUNTIF(B$9:B10,"V")+COUNTIF(B$9:B10,"H")+COUNTIF(B$9:B10,"C") -> 0 | AN10: =IF(AND(AM10>3,OR(B10="V",B10="H",B10="C")),"","Z") -> Z | AO10: =COUNTIF(AN$9:AN10,"Z") -> 2 | AP10: =IF(AND(E10<>"",AO10<9,AN10="Z"),"Z","") | AQ10: =IF(AND(B10="",C10=""),"",IF(AND(B10<>"",C10=""),B10,IF(AND(B10<>"",C10<>""),CONCATENATE(B10,",",C10),IF(AND(B10="",C10<>""),CONCATENATE(" -,",C10)))))
A11: 3 | B11: =AL11 | C11: =AP11 | D11: =AQ11 | E11: =IF(G11="","",IF(ISNUMBER(MATCH(G11,Ev_c_LOK,0)),INDEX(Jmeno,MATCH(G11,Ev_c_LOK,0)),"")) | F11: =IF(G11="","",IF(ISNUMBER(MATCH(G11,Ev_c_LOK,0)),INDEX(RokNar,MATCH(G11,Ev_c_LOK,0)),"")) | H11: =IF(ISNUMBER(INDEX(ELOCR,MATCH(G11,Ev_c_LOK,0))),INDEX(ELOCR,MATCH(G11,Ev_c_LOK,0)),"") | I11: =IF(ISNUMBER(INDEX(FEvCis,MATCH(G11,Ev_c_LOK,0))),INDEX(FEvCis,MATCH(G11,Ev_c_LOK,0)),"") | J11: =IF(ISNUMBER(INDEX(ELOFIDE,MATCH(G11,Ev_c_LOK,0))),INDEX(ELOFIDE,MATCH(G11,Ev_c_LOK,0)),"") | K11: =CONCATENATE(AG11,AH11) | M11: =IF(ISNUMBER($AA$11),INDEX(Jmeno,$AA$11),"") | N11: =IF(ISNUMBER($AA$11),INDEX(RokNar,$AA$11),"") | O11: =IF(ISNUMBER($AA$11),INDEX(Ev_c_LOK,$AA$11),"") | P11: =IF(ISNUMBER($AA$11),INDEX(NazevOddil,$AA$11),"") | Q11: - příjmení a jméno uvádějte v tomto pořadí (ne opačně) | AA11: =MATCH(TRUE,INDEX(vyMaska,$AA10+1):evyMaska,0)+$AA10 -> #VALUE! | AB11: =IF(ISNUMBER($AA11),INDEX(RegPopl,$AA11),"") | AC11: =IF(ISNUMBER($AA11),INDEX(Kraj,$AA11),"") | AD11: =IF(ISNUMBER($AA11),INDEX(KodOddilu,$AA11),"") | AE11: =IF(ISNUMBER($AA11),INDEX(NazevOddil,$AA11),"") | AF11: =IF(ISNUMBER($AA$11),INDEX(Ev_c_LOK,$AA$11),"") | AG11: =IF(AND(E11="",G11=""),"",IF(ISNUMBER(MATCH(G11,Ev_c_LOK,0)),IF(AND(E11=INDEX(Jmeno,MATCH(G11,Ev_c_LOK,0)),F11=INDEX(RokNar,MATCH(G11,Ev_c_LOK,0))),IF(INDEX(NazevOddil,MATCH(G11,Ev_c_LOK,0))<>$H$47,IF(INDEX(RegPopl,MATCH(G11,Ev_c_LOK,0))=0,CONCATENATE("je členem ",INDEX(NazevOddil,MATCH(G11,Ev_c_LOK,0))," a je neaktivní"),CONCATENATE("je členem ",INDEX(NazevOddil,MATCH(G11,Ev_c_LOK,0)))),IF(INDEX(RegPopl,MATCH(G11,Ev_c_LOK,0))>0,"","je neaktivní")),"jméno nebo/a rok narození neodpovídá Ev.č. LOK"),"není registrován v ŠSČR")) | AH11: =IF(OR(COUNTIF($G$9:$G$28,$G11)>1,AND($I11<>"",COUNTIF($I$9:$I$28,$I11)>1))," - duplicita ID"," ") | AI11: =AND($P$44<>"",ISNUMBER(SEARCH(MID($P$44,1,2),číselníky!H11))) -> TRUE | AJ11: =MATCH(TRUE,INDEX(ikluby,$AJ10+1):enikluby,0)+$AJ10 -> 10 | AK11: =IF(ISNUMBER(AJ11),INDEX(Oddil,AJ11),"") -> 11015 TJ Kobylisy | AL11: =IF(OR(E11="",K11="není registrován v ŠSČR "),"",IF(INDEX(FED,MATCH(G11,Ev_c_LOK,0))<>"CZE","C",IF(CONCATENATE(INDEX(Kraj,MATCH(G11,Ev_c_LOK,0)),INDEX(KodOddilu,MATCH(G11,Ev_c_LOK,0)))<>$H$45,"H",""))) | AM11: =COUNTIF(B$9:B11,"V")+COUNTIF(B$9:B11,"H")+COUNTIF(B$9:B11,"C") -> 0 | AN11: =IF(AND(AM11>3,OR(B11="V",B11="H",B11="C")),"","Z") -> Z | AO11: =COUNTIF(AN$9:AN11,"Z") -> 3 | AP11: =IF(AND(E11<>"",AO11<9,AN11="Z"),"Z","") | AQ11: =IF(AND(B11="",C11=""),"",IF(AND(B11<>"",C11=""),B11,IF(AND(B11<>"",C11<>""),CONCATENATE(B11,",",C11),IF(AND(B11="",C11<>""),CONCATENATE(" -,",C11)))))
A12: 4 | B12: =AL12 | C12: =AP12 | D12: =AQ12 | E12: =IF(G12="","",IF(ISNUMBER(MATCH(G12,Ev_c_LOK,0)),INDEX(Jmeno,MATCH(G12,Ev_c_LOK,0)),"")) | F12: =IF(G12="","",IF(ISNUMBER(MATCH(G12,Ev_c_LOK,0)),INDEX(RokNar,MATCH(G12,Ev_c_LOK,0)),"")) | H12: =IF(ISNUMBER(INDEX(ELOCR,MATCH(G12,Ev_c_LOK,0))),INDEX(ELOCR,MATCH(G12,Ev_c_LOK,0)),"") | I12: =IF(ISNUMBER(INDEX(FEvCis,MATCH(G12,Ev_c_LOK,0))),INDEX(FEvCis,MATCH(G12,Ev_c_LOK,0)),"") | J12: =IF(ISNUMBER(INDEX(ELOFIDE,MATCH(G12,Ev_c_LOK,0))),INDEX(ELOFIDE,MATCH(G12,Ev_c_LOK,0)),"") | K12: =CONCATENATE(AG12,AH12) | M12: =IF(ISNUMBER($AA$12),INDEX(Jmeno,$AA$12),"") | N12: =IF(ISNUMBER($AA$12),INDEX(RokNar,$AA$12),"") | O12: =IF(ISNUMBER($AA$12),INDEX(Ev_c_LOK,$AA$12),"") | P12: =IF(ISNUMBER($AA$12),INDEX(NazevOddil,$AA$12),"") | Q12: - typ může nabývat hodnot: | T12: prázdný obsah | AA12: =MATCH(TRUE,INDEX(vyMaska,$AA11+1):evyMaska,0)+$AA11 -> #VALUE! | AB12: =IF(ISNUMBER($AA12),INDEX(RegPopl,$AA12),"") | AC12: =IF(ISNUMBER($AA12),INDEX(Kraj,$AA12),"") | AD12: =IF(ISNUMBER($AA12),INDEX(KodOddilu,$AA12),"") | AE12: =IF(ISNUMBER($AA12),INDEX(NazevOddil,$AA12),"") | AF12: =IF(ISNUMBER($AA$12),INDEX(Ev_c_LOK,$AA$12),"") | AG12: =IF(AND(E12="",G12=""),"",IF(ISNUMBER(MATCH(G12,Ev_c_LOK,0)),IF(AND(E12=INDEX(Jmeno,MATCH(G12,Ev_c_LOK,0)),F12=INDEX(RokNar,MATCH(G12,Ev_c_LOK,0))),IF(INDEX(NazevOddil,MATCH(G12,Ev_c_LOK,0))<>$H$47,IF(INDEX(RegPopl,MATCH(G12,Ev_c_LOK,0))=0,CONCATENATE("je členem ",INDEX(NazevOddil,MATCH(G12,Ev_c_LOK,0))," a je neaktivní"),CONCATENATE("je členem ",INDEX(NazevOddil,MATCH(G12,Ev_c_LOK,0)))),IF(INDEX(RegPopl,MATCH(G12,Ev_c_LOK,0))>0,"","je neaktivní")),"jméno nebo/a rok narození neodpovídá Ev.č. LOK"),"není registrován v ŠSČR")) | AH12: =IF(OR(COUNTIF($G$9:$G$28,$G12)>1,AND($I12<>"",COUNTIF($I$9:$I$28,$I12)>1))," - duplicita ID"," ") | AI12: =AND($P$44<>"",ISNUMBER(SEARCH(MID($P$44,1,2),číselníky!H12))) -> TRUE | AJ12: =MATCH(TRUE,INDEX(ikluby,$AJ11+1):enikluby,0)+$AJ11 -> 11 | AK12: =IF(ISNUMBER(AJ12),INDEX(Oddil,AJ12),"") -> 11016 ŠO Praga Praha | AL12: =IF(OR(E12="",K12="není registrován v ŠSČR "),"",IF(INDEX(FED,MATCH(G12,Ev_c_LOK,0))<>"CZE","C",IF(CONCATENATE(INDEX(Kraj,MATCH(G12,Ev_c_LOK,0)),INDEX(KodOddilu,MATCH(G12,Ev_c_LOK,0)))<>$H$45,"H",""))) | AM12: =COUNTIF(B$9:B12,"V")+COUNTIF(B$9:B12,"H")+COUNTIF(B$9:B12,"C") -> 0 | AN12: =IF(AND(AM12>3,OR(B12="V",B12="H",B12="C")),"","Z") -> Z | AO12: =COUNTIF(AN$9:AN12,"Z") -> 4 | AP12: =IF(AND(E12<>"",AO12<9,AN12="Z"),"Z","") | AQ12: =IF(AND(B12="",C12=""),"",IF(AND(B12<>"",C12=""),B12,IF(AND(B12<>"",C12<>""),CONCATENATE(B12,",",C12),IF(AND(B12="",C12<>""),CONCATENATE(" -,",C12)))))
A13: 5 | B13: =AL13 | C13: =AP13 | D13: =AQ13 | E13: =IF(G13="","",IF(ISNUMBER(MATCH(G13,Ev_c_LOK,0)),INDEX(Jmeno,MATCH(G13,Ev_c_LOK,0)),"")) | F13: =IF(G13="","",IF(ISNUMBER(MATCH(G13,Ev_c_LOK,0)),INDEX(RokNar,MATCH(G13,Ev_c_LOK,0)),"")) | H13: =IF(ISNUMBER(INDEX(ELOCR,MATCH(G13,Ev_c_LOK,0))),INDEX(ELOCR,MATCH(G13,Ev_c_LOK,0)),"") | I13: =IF(ISNUMBER(INDEX(FEvCis,MATCH(G13,Ev_c_LOK,0))),INDEX(FEvCis,MATCH(G13,Ev_c_LOK,0)),"") | J13: =IF(ISNUMBER(INDEX(ELOFIDE,MATCH(G13,Ev_c_LOK,0))),INDEX(ELOFIDE,MATCH(G13,Ev_c_LOK,0)),"") | K13: =CONCATENATE(AG13,AH13) | M13: =IF(ISNUMBER($AA$13),INDEX(Jmeno,$AA$13),"") | N13: =IF(ISNUMBER($AA$13),INDEX(RokNar,$AA$13),"") | O13: =IF(ISNUMBER($AA$13),INDEX(Ev_c_LOK,$AA$13),"") | P13: =IF(ISNUMBER($AA$13),INDEX(NazevOddil,$AA$13),"") | T13: V - volný hráč | AA13: =MATCH(TRUE,INDEX(vyMaska,$AA12+1):evyMaska,0)+$AA12 -> #VALUE! | AB13: =IF(ISNUMBER($AA13),INDEX(RegPopl,$AA13),"") | AC13: =IF(ISNUMBER($AA13),INDEX(Kraj,$AA13),"") | AD13: =IF(ISNUMBER($AA13),INDEX(KodOddilu,$AA13),"") | AE13: =IF(ISNUMBER($AA13),INDEX(NazevOddil,$AA13),"") | AF13: =IF(ISNUMBER($AA$13),INDEX(Ev_c_LOK,$AA$13),"") | AG13: =IF(AND(E13="",G13=""),"",IF(ISNUMBER(MATCH(G13,Ev_c_LOK,0)),IF(AND(E13=INDEX(Jmeno,MATCH(G13,Ev_c_LOK,0)),F13=INDEX(RokNar,MATCH(G13,Ev_c_LOK,0))),IF(INDEX(NazevOddil,MATCH(G13,Ev_c_LOK,0))<>$H$47,IF(INDEX(RegPopl,MATCH(G13,Ev_c_LOK,0))=0,CONCATENATE("je členem ",INDEX(NazevOddil,MATCH(G13,Ev_c_LOK,0))," a je neaktivní"),CONCATENATE("je členem ",INDEX(NazevOddil,MATCH(G13,Ev_c_LOK,0)))),IF(INDEX(RegPopl,MATCH(G13,Ev_c_LOK,0))>0,"","je neaktivní")),"jméno nebo/a rok narození neodpovídá Ev.č. LOK"),"není registrován v ŠSČR")) | AH13: =IF(OR(COUNTIF($G$9:$G$28,$G13)>1,AND($I13<>"",COUNTIF($I$9:$I$28,$I13)>1))," - duplicita ID"," ") | AI13: =AND($P$44<>"",ISNUMBER(SEARCH(MID($P$44,1,2),číselníky!H13))) -> TRUE | AJ13: =MATCH(TRUE,INDEX(ikluby,$AJ12+1):enikluby,0)+$AJ12 -> 12 | AK13: =IF(ISNUMBER(AJ13),INDEX(Oddil,AJ13),"") -> 11020 ŠK Mahrla Praha z.s. | AL13: =IF(OR(E13="",K13="není registrován v ŠSČR "),"",IF(INDEX(FED,MATCH(G13,Ev_c_LOK,0))<>"CZE","C",IF(CONCATENATE(INDEX(Kraj,MATCH(G13,Ev_c_LOK,0)),INDEX(KodOddilu,MATCH(G13,Ev_c_LOK,0)))<>$H$45,"H",""))) | AM13: =COUNTIF(B$9:B13,"V")+COUNTIF(B$9:B13,"H")+COUNTIF(B$9:B13,"C") -> 0 | AN13: =IF(AND(AM13>3,OR(B13="V",B13="H",B13="C")),"","Z") -> Z | AO13: =COUNTIF(AN$9:AN13,"Z") -> 5 | AP13: =IF(AND(E13<>"",AO13<9,AN13="Z"),"Z","") | AQ13: =IF(AND(B13="",C13=""),"",IF(AND(B13<>"",C13=""),B13,IF(AND(B13<>"",C13<>""),CONCATENATE(B13,",",C13),IF(AND(B13="",C13<>""),CONCATENATE(" -,",C13)))))
A14: 6 | B14: =AL14 | C14: =AP14 | D14: =AQ14 | E14: =IF(G14="","",IF(ISNUMBER(MATCH(G14,Ev_c_LOK,0)),INDEX(Jmeno,MATCH(G14,Ev_c_LOK,0)),"")) | F14: =IF(G14="","",IF(ISNUMBER(MATCH(G14,Ev_c_LOK,0)),INDEX(RokNar,MATCH(G14,Ev_c_LOK,0)),"")) | H14: =IF(ISNUMBER(INDEX(ELOCR,MATCH(G14,Ev_c_LOK,0))),INDEX(ELOCR,MATCH(G14,Ev_c_LOK,0)),"") | I14: =IF(ISNUMBER(INDEX(FEvCis,MATCH(G14,Ev_c_LOK,0))),INDEX(FEvCis,MATCH(G14,Ev_c_LOK,0)),"") | J14: =IF(ISNUMBER(INDEX(ELOFIDE,MATCH(G14,Ev_c_LOK,0))),INDEX(ELOFIDE,MATCH(G14,Ev_c_LOK,0)),"") | K14: =CONCATENATE(AG14,AH14) | M14: =IF(ISNUMBER($AA$14),INDEX(Jmeno,$AA$14),"") | N14: =IF(ISNUMBER($AA$14),INDEX(RokNar,$AA$14),"") | O14: =IF(ISNUMBER($AA$14),INDEX(Ev_c_LOK,$AA$14),"") | P14: =IF(ISNUMBER($AA$14),INDEX(NazevOddil,$AA$14),"") | T14: H - host | AA14: =MATCH(TRUE,INDEX(vyMaska,$AA13+1):evyMaska,0)+$AA13 -> #VALUE! | AB14: =IF(ISNUMBER($AA14),INDEX(RegPopl,$AA14),"") | AC14: =IF(ISNUMBER($AA14),INDEX(Kraj,$AA14),"") | AD14: =IF(ISNUMBER($AA14),INDEX(KodOddilu,$AA14),"") | AE14: =IF(ISNUMBER($AA14),INDEX(NazevOddil,$AA14),"") | AF14: =IF(ISNUMBER($AA$14),INDEX(Ev_c_LOK,$AA$14),"") | AG14: =IF(AND(E14="",G14=""),"",IF(ISNUMBER(MATCH(G14,Ev_c_LOK,0)),IF(AND(E14=INDEX(Jmeno,MATCH(G14,Ev_c_LOK,0)),F14=INDEX(RokNar,MATCH(G14,Ev_c_LOK,0))),IF(INDEX(NazevOddil,MATCH(G14,Ev_c_LOK,0))<>$H$47,IF(INDEX(RegPopl,MATCH(G14,Ev_c_LOK,0))=0,CONCATENATE("je členem ",INDEX(NazevOddil,MATCH(G14,Ev_c_LOK,0))," a je neaktivní"),CONCATENATE("je členem ",INDEX(NazevOddil,MATCH(G14,Ev_c_LOK,0)))),IF(INDEX(RegPopl,MATCH(G14,Ev_c_LOK,0))>0,"","je neaktivní")),"jméno nebo/a rok narození neodpovídá Ev.č. LOK"),"není registrován v ŠSČR")) | AH14: =IF(OR(COUNTIF($G$9:$G$28,$G14)>1,AND($I14<>"",COUNTIF($I$9:$I$28,$I14)>1))," - duplicita ID"," ") | AI14: =AND($P$44<>"",ISNUMBER(SEARCH(MID($P$44,1,2),číselníky!H14))) -> TRUE | AJ14: =MATCH(TRUE,INDEX(ikluby,$AJ13+1):enikluby,0)+$AJ13 -> 13 | AK14: =IF(ISNUMBER(AJ14),INDEX(Oddil,AJ14),"") -> 11022 SK Rapid Praha | AL14: =IF(OR(E14="",K14="není registrován v ŠSČR "),"",IF(INDEX(FED,MATCH(G14,Ev_c_LOK,0))<>"CZE","C",IF(CONCATENATE(INDEX(Kraj,MATCH(G14,Ev_c_LOK,0)),INDEX(KodOddilu,MATCH(G14,Ev_c_LOK,0)))<>$H$45,"H",""))) | AM14: =COUNTIF(B$9:B14,"V")+COUNTIF(B$9:B14,"H")+COUNTIF(B$9:B14,"C") -> 0 | AN14: =IF(AND(AM14>3,OR(B14="V",B14="H",B14="C")),"","Z") -> Z | AO14: =COUNTIF(AN$9:AN14,"Z") -> 6 | AP14: =IF(AND(E14<>"",AO14<9,AN14="Z"),"Z","") | AQ14: =IF(AND(B14="",C14=""),"",IF(AND(B14<>"",C14=""),B14,IF(AND(B14<>"",C14<>""),CONCATENATE(B14,",",C14),IF(AND(B14="",C14<>""),CONCATENATE(" -,",C14)))))
A15: 7 | B15: =AL15 | C15: =AP15 | D15: =AQ15 | E15: =IF(G15="","",IF(ISNUMBER(MATCH(G15,Ev_c_LOK,0)),INDEX(Jmeno,MATCH(G15,Ev_c_LOK,0)),"")) | F15: =IF(G15="","",IF(ISNUMBER(MATCH(G15,Ev_c_LOK,0)),INDEX(RokNar,MATCH(G15,Ev_c_LOK,0)),"")) | H15: =IF(ISNUMBER(INDEX(ELOCR,MATCH(G15,Ev_c_LOK,0))),INDEX(ELOCR,MATCH(G15,Ev_c_LOK,0)),"") | I15: =IF(ISNUMBER(INDEX(FEvCis,MATCH(G15,Ev_c_LOK,0))),INDEX(FEvCis,MATCH(G15,Ev_c_LOK,0)),"") | J15: =IF(ISNUMBER(INDEX(ELOFIDE,MATCH(G15,Ev_c_LOK,0))),INDEX(ELOFIDE,MATCH(G15,Ev_c_LOK,0)),"") | K15: =CONCATENATE(AG15,AH15) | M15: =IF(ISNUMBER($AA$15),INDEX(Jmeno,$AA$15),"") | N15: =IF(ISNUMBER($AA$15),INDEX(RokNar,$AA$15),"") | O15: =IF(ISNUMBER($AA$15),INDEX(Ev_c_LOK,$AA$15),"") | P15: =IF(ISNUMBER($AA$15),INDEX(NazevOddil,$AA$15),"") | T15: C - cizinec | AA15: =MATCH(TRUE,INDEX(vyMaska,$AA14+1):evyMaska,0)+$AA14 -> #VALUE! | AB15: =IF(ISNUMBER($AA15),INDEX(RegPopl,$AA15),"") | AC15: =IF(ISNUMBER($AA15),INDEX(Kraj,$AA15),"") | AD15: =IF(ISNUMBER($AA15),INDEX(KodOddilu,$AA15),"") | AE15: =IF(ISNUMBER($AA15),INDEX(NazevOddil,$AA15),"") | AF15: =IF(ISNUMBER($AA$15),INDEX(Ev_c_LOK,$AA$15),"") | AG15: =IF(AND(E15="",G15=""),"",IF(ISNUMBER(MATCH(G15,Ev_c_LOK,0)),IF(AND(E15=INDEX(Jmeno,MATCH(G15,Ev_c_LOK,0)),F15=INDEX(RokNar,MATCH(G15,Ev_c_LOK,0))),IF(INDEX(NazevOddil,MATCH(G15,Ev_c_LOK,0))<>$H$47,IF(INDEX(RegPopl,MATCH(G15,Ev_c_LOK,0))=0,CONCATENATE("je členem ",INDEX(NazevOddil,MATCH(G15,Ev_c_LOK,0))," a je neaktivní"),CONCATENATE("je členem ",INDEX(NazevOddil,MATCH(G15,Ev_c_LOK,0)))),IF(INDEX(RegPopl,MATCH(G15,Ev_c_LOK,0))>0,"","je neaktivní")),"jméno nebo/a rok narození neodpovídá Ev.č. LOK"),"není registrován v ŠSČR")) | AH15: =IF(OR(COUNTIF($G$9:$G$28,$G15)>1,AND($I15<>"",COUNTIF($I$9:$I$28,$I15)>1))," - duplicita ID"," ") | AI15: =AND($P$44<>"",ISNUMBER(SEARCH(MID($P$44,1,2),číselníky!H15))) -> TRUE | AJ15: =MATCH(TRUE,INDEX(ikluby,$AJ14+1):enikluby,0)+$AJ14 -> 14 | AK15: =IF(ISNUMBER(AJ15),INDEX(Oddil,AJ15),"") -> 11027 PSK Union Praha | AL15: =IF(OR(E15="",K15="není registrován v ŠSČR "),"",IF(INDEX(FED,MATCH(G15,Ev_c_LOK,0))<>"CZE","C",IF(CONCATENATE(INDEX(Kraj,MATCH(G15,Ev_c_LOK,0)),INDEX(KodOddilu,MATCH(G15,Ev_c_LOK,0)))<>$H$45,"H",""))) | AM15: =COUNTIF(B$9:B15,"V")+COUNTIF(B$9:B15,"H")+COUNTIF(B$9:B15,"C") -> 0 | AN15: =IF(AND(AM15>3,OR(B15="V",B15="H",B15="C")),"","Z") -> Z | AO15: =COUNTIF(AN$9:AN15,"Z") -> 7 | AP15: =IF(AND(E15<>"",AO15<9,AN15="Z"),"Z","") | AQ15: =IF(AND(B15="",C15=""),"",IF(AND(B15<>"",C15=""),B15,IF(AND(B15<>"",C15<>""),CONCATENATE(B15,",",C15),IF(AND(B15="",C15<>""),CONCATENATE(" -,",C15)))))
A16: 8 | B16: =AL16 | C16: =AP16 | D16: =AQ16 | E16: =IF(G16="","",IF(ISNUMBER(MATCH(G16,Ev_c_LOK,0)),INDEX(Jmeno,MATCH(G16,Ev_c_LOK,0)),"")) | F16: =IF(G16="","",IF(ISNUMBER(MATCH(G16,Ev_c_LOK,0)),INDEX(RokNar,MATCH(G16,Ev_c_LOK,0)),"")) | H16: =IF(ISNUMBER(INDEX(ELOCR,MATCH(G16,Ev_c_LOK,0))),INDEX(ELOCR,MATCH(G16,Ev_c_LOK,0)),"") | I16: =IF(ISNUMBER(INDEX(FEvCis,MATCH(G16,Ev_c_LOK,0))),INDEX(FEvCis,MATCH(G16,Ev_c_LOK,0)),"") | J16: =IF(ISNUMBER(INDEX(ELOFIDE,MATCH(G16,Ev_c_LOK,0))),INDEX(ELOFIDE,MATCH(G16,Ev_c_LOK,0)),"") | K16: =CONCATENATE(AG16,AH16) | M16: =IF(ISNUMBER($AA$16),INDEX(Jmeno,$AA$16),"") | N16: =IF(ISNUMBER($AA$16),INDEX(RokNar,$AA$16),"") | O16: =IF(ISNUMBER($AA$16),INDEX(Ev_c_LOK,$AA$16),"") | P16: =IF(ISNUMBER($AA$16),INDEX(NazevOddil,$AA$16),"") | T16: Z - hráč základní sestavy | AA16: =MATCH(TRUE,INDEX(vyMaska,$AA15+1):evyMaska,0)+$AA15 -> #VALUE! | AB16: =IF(ISNUMBER($AA16),INDEX(RegPopl,$AA16),"") | AC16: =IF(ISNUMBER($AA16),INDEX(Kraj,$AA16),"") | AD16: =IF(ISNUMBER($AA16),INDEX(KodOddilu,$AA16),"") | AE16: =IF(ISNUMBER($AA16),INDEX(NazevOddil,$AA16),"") | AF16: =IF(ISNUMBER($AA$16),INDEX(Ev_c_LOK,$AA$16),"") | AG16: =IF(AND(E16="",G16=""),"",IF(ISNUMBER(MATCH(G16,Ev_c_LOK,0)),IF(AND(E16=INDEX(Jmeno,MATCH(G16,Ev_c_LOK,0)),F16=INDEX(RokNar,MATCH(G16,Ev_c_LOK,0))),IF(INDEX(NazevOddil,MATCH(G16,Ev_c_LOK,0))<>$H$47,IF(INDEX(RegPopl,MATCH(G16,Ev_c_LOK,0))=0,CONCATENATE("je členem ",INDEX(NazevOddil,MATCH(G16,Ev_c_LOK,0))," a je neaktivní"),CONCATENATE("je členem ",INDEX(NazevOddil,MATCH(G16,Ev_c_LOK,0)))),IF(INDEX(RegPopl,MATCH(G16,Ev_c_LOK,0))>0,"","je neaktivní")),"jméno nebo/a rok narození neodpovídá Ev.č. LOK"),"není registrován v ŠSČR")) | AH16: =IF(OR(COUNTIF($G$9:$G$28,$G16)>1,AND($I16<>"",COUNTIF($I$9:$I$28,$I16)>1))," - duplicita ID"," ") | AI16: =AND($P$44<>"",ISNUMBER(SEARCH(MID($P$44,1,2),číselníky!H16))) -> TRUE | AJ16: =MATCH(TRUE,INDEX(ikluby,$AJ15+1):enikluby,0)+$AJ15 -> 15 | AK16: =IF(ISNUMBER(AJ16),INDEX(Oddil,AJ16),"") -> 11028 GROP Praha | AL16: =IF(OR(E16="",K16="není registrován v ŠSČR "),"",IF(INDEX(FED,MATCH(G16,Ev_c_LOK,0))<>"CZE","C",IF(CONCATENATE(INDEX(Kraj,MATCH(G16,Ev_c_LOK,0)),INDEX(KodOddilu,MATCH(G16,Ev_c_LOK,0)))<>$H$45,"H",""))) | AM16: =COUNTIF(B$9:B16,"V")+COUNTIF(B$9:B16,"H")+COUNTIF(B$9:B16,"C") -> 0 | AN16: =IF(AND(AM16>3,OR(B16="V",B16="H",B16="C")),"","Z") -> Z | AO16: =COUNTIF(AN$9:AN16,"Z") -> 8 | AP16: =IF(AND(E16<>"",AO16<9,AN16="Z"),"Z","") | AQ16: =IF(AND(B16="",C16=""),"",IF(AND(B16<>"",C16=""),B16,IF(AND(B16<>"",C16<>""),CONCATENATE(B16,",",C16),IF(AND(B16="",C16<>""),CONCATENATE(" -,",C16)))))
A17: 9 | B17: =AL17 | C17: =AP17 | D17: =AQ17 | E17: =IF(G17="","",IF(ISNUMBER(MATCH(G17,Ev_c_LOK,0)),INDEX(Jmeno,MATCH(G17,Ev_c_LOK,0)),"")) | F17: =IF(G17="","",IF(ISNUMBER(MATCH(G17,Ev_c_LOK,0)),INDEX(RokNar,MATCH(G17,Ev_c_LOK,0)),"")) | H17: =IF(ISNUMBER(INDEX(ELOCR,MATCH(G17,Ev_c_LOK,0))),INDEX(ELOCR,MATCH(G17,Ev_c_LOK,0)),"") | I17: =IF(ISNUMBER(INDEX(FEvCis,MATCH(G17,Ev_c_LOK,0))),INDEX(FEvCis,MATCH(G17,Ev_c_LOK,0)),"") | J17: =IF(ISNUMBER(INDEX(ELOFIDE,MATCH(G17,Ev_c_LOK,0))),INDEX(ELOFIDE,MATCH(G17,Ev_c_LOK,0)),"") | K17: =CONCATENATE(AG17,AH17) | M17: =IF(ISNUMBER($AA$17),INDEX(Jmeno,$AA$17),"") | N17: =IF(ISNUMBER($AA$17),INDEX(RokNar,$AA$17),"") | O17: =IF(ISNUMBER($AA$17),INDEX(Ev_c_LOK,$AA$17),"") | P17: =IF(ISNUMBER($AA$17),INDEX(NazevOddil,$AA$17),"") | T17: Z,V - volný hráč, který je hráčem základní sestavy | AA17: =MATCH(TRUE,INDEX(vyMaska,$AA16+1):evyMaska,0)+$AA16 -> #VALUE! | AB17: =IF(ISNUMBER($AA17),INDEX(RegPopl,$AA17),"") | AC17: =IF(ISNUMBER($AA17),INDEX(Kraj,$AA17),"") | AD17: =IF(ISNUMBER($AA17),INDEX(KodOddilu,$AA17),"") | AE17: =IF(ISNUMBER($AA17),INDEX(NazevOddil,$AA17),"") | AF17: =IF(ISNUMBER($AA$17),INDEX(Ev_c_LOK,$AA$17),"") | AG17: =IF(AND(E17="",G17=""),"",IF(ISNUMBER(MATCH(G17,Ev_c_LOK,0)),IF(AND(E17=INDEX(Jmeno,MATCH(G17,Ev_c_LOK,0)),F17=INDEX(RokNar,MATCH(G17,Ev_c_LOK,0))),IF(INDEX(NazevOddil,MATCH(G17,Ev_c_LOK,0))<>$H$47,IF(INDEX(RegPopl,MATCH(G17,Ev_c_LOK,0))=0,CONCATENATE("je členem ",INDEX(NazevOddil,MATCH(G17,Ev_c_LOK,0))," a je neaktivní"),CONCATENATE("je členem ",INDEX(NazevOddil,MATCH(G17,Ev_c_LOK,0)))),IF(INDEX(RegPopl,MATCH(G17,Ev_c_LOK,0))>0,"","je neaktivní")),"jméno nebo/a rok narození neodpovídá Ev.č. LOK"),"není registrován v ŠSČR")) | AH17: =IF(OR(COUNTIF($G$9:$G$28,$G17)>1,AND($I17<>"",COUNTIF($I$9:$I$28,$I17)>1))," - duplicita ID"," ") | AI17: =AND($P$44<>"",ISNUMBER(SEARCH(MID($P$44,1,2),číselníky!H17))) -> TRUE | AJ17: =MATCH(TRUE,INDEX(ikluby,$AJ16+1):enikluby,0)+$AJ16 -> 16 | AK17: =IF(ISNUMBER(AJ17),INDEX(Oddil,AJ17),"") -> 11029 ŠK Praha-Smíchov | AL17: =IF(OR(E17="",K17="není registrován v ŠSČR "),"",IF(INDEX(FED,MATCH(G17,Ev_c_LOK,0))<>"CZE","C",IF(CONCATENATE(INDEX(Kraj,MATCH(G17,Ev_c_LOK,0)),INDEX(KodOddilu,MATCH(G17,Ev_c_LOK,0)))<>$H$45,"H",""))) | AM17: =COUNTIF(B$9:B17,"V")+COUNTIF(B$9:B17,"H")+COUNTIF(B$9:B17,"C") -> 0 | AN17: =IF(AND(AM17>3,OR(B17="V",B17="H",B17="C")),"","Z") -> Z | AO17: =COUNTIF(AN$9:AN17,"Z") -> 9 | AP17: =IF(AND(E17<>"",AO17<9,AN17="Z"),"Z","") | AQ17: =IF(AND(B17="",C17=""),"",IF(AND(B17<>"",C17=""),B17,IF(AND(B17<>"",C17<>""),CONCATENATE(B17,",",C17),IF(AND(B17="",C17<>""),CONCATENATE(" -,",C17)))))
A18: 10 | B18: =AL18 | C18: =AP18 | D18: =AQ18 | E18: =IF(G18="","",IF(ISNUMBER(MATCH(G18,Ev_c_LOK,0)),INDEX(Jmeno,MATCH(G18,Ev_c_LOK,0)),"")) | F18: =IF(G18="","",IF(ISNUMBER(MATCH(G18,Ev_c_LOK,0)),INDEX(RokNar,MATCH(G18,Ev_c_LOK,0)),"")) | H18: =IF(ISNUMBER(INDEX(ELOCR,MATCH(G18,Ev_c_LOK,0))),INDEX(ELOCR,MATCH(G18,Ev_c_LOK,0)),"") | I18: =IF(ISNUMBER(INDEX(FEvCis,MATCH(G18,Ev_c_LOK,0))),INDEX(FEvCis,MATCH(G18,Ev_c_LOK,0)),"") | J18: =IF(ISNUMBER(INDEX(ELOFIDE,MATCH(G18,Ev_c_LOK,0))),INDEX(ELOFIDE,MATCH(G18,Ev_c_LOK,0)),"") | K18: =CONCATENATE(AG18,AH18) | M18: =IF(ISNUMBER($AA$18),INDEX(Jmeno,$AA$18),"") | N18: =IF(ISNUMBER($AA$18),INDEX(RokNar,$AA$18),"") | O18: =IF(ISNUMBER($AA$18),INDEX(Ev_c_LOK,$AA$18),"") | P18: =IF(ISNUMBER($AA$18),INDEX(NazevOddil,$AA$18),"") | T18: Z,H - host, který je hráčem základní sestavy | AA18: =MATCH(TRUE,INDEX(vyMaska,$AA17+1):evyMaska,0)+$AA17 -> #VALUE! | AB18: =IF(ISNUMBER($AA18),INDEX(RegPopl,$AA18),"") | AC18: =IF(ISNUMBER($AA18),INDEX(Kraj,$AA18),"") | AD18: =IF(ISNUMBER($AA18),INDEX(KodOddilu,$AA18),"") | AE18: =IF(ISNUMBER($AA18),INDEX(NazevOddil,$AA18),"") | AF18: =IF(ISNUMBER($AA$18),INDEX(Ev_c_LOK,$AA$18),"") | AG18: =IF(AND(E18="",G18=""),"",IF(ISNUMBER(MATCH(G18,Ev_c_LOK,0)),IF(AND(E18=INDEX(Jmeno,MATCH(G18,Ev_c_LOK,0)),F18=INDEX(RokNar,MATCH(G18,Ev_c_LOK,0))),IF(INDEX(NazevOddil,MATCH(G18,Ev_c_LOK,0))<>$H$47,IF(INDEX(RegPopl,MATCH(G18,Ev_c_LOK,0))=0,CONCATENATE("je členem ",INDEX(NazevOddil,MATCH(G18,Ev_c_LOK,0))," a je neaktivní"),CONCATENATE("je členem ",INDEX(NazevOddil,MATCH(G18,Ev_c_LOK,0)))),IF(INDEX(RegPopl,MATCH(G18,Ev_c_LOK,0))>0,"","je neaktivní")),"jméno nebo/a rok narození neodpovídá Ev.č. LOK"),"není registrován v ŠSČR")) | AH18: =IF(OR(COUNTIF($G$9:$G$28,$G18)>1,AND($I18<>"",COUNTIF($I$9:$I$28,$I18)>1))," - duplicita ID"," ") | AI18: =AND($P$44<>"",ISNUMBER(SEARCH(MID($P$44,1,2),číselníky!H18))) -> TRUE | AJ18: =MATCH(TRUE,INDEX(ikluby,$AJ17+1):enikluby,0)+$AJ17 -> 17 | AK18: =IF(ISNUMBER(AJ18),INDEX(Oddil,AJ18),"") -> 11032 DDM Praha 6 | AL18: =IF(OR(E18="",K18="není registrován v ŠSČR "),"",IF(INDEX(FED,MATCH(G18,Ev_c_LOK,0))<>"CZE","C",IF(CONCATENATE(INDEX(Kraj,MATCH(G18,Ev_c_LOK,0)),INDEX(KodOddilu,MATCH(G18,Ev_c_LOK,0)))<>$H$45,"H",""))) | AM18: =COUNTIF(B$9:B18,"V")+COUNTIF(B$9:B18,"H")+COUNTIF(B$9:B18,"C") -> 0 | AN18: =IF(AND(AM18>3,OR(B18="V",B18="H",B18="C")),"","Z") -> Z | AO18: =COUNTIF(AN$9:AN18,"Z") -> 10 | AP18: =IF(AND(E18<>"",AO18<9,AN18="Z"),"Z","") | AQ18: =IF(AND(B18="",C18=""),"",IF(AND(B18<>"",C18=""),B18,IF(AND(B18<>"",C18<>""),CONCATENATE(B18,",",C18),IF(AND(B18="",C18<>""),CONCATENATE(" -,",C18)))))
A19: 11 | B19: =AL19 | C19: =AP19 | D19: =AQ19 | E19: =IF(G19="","",IF(ISNUMBER(MATCH(G19,Ev_c_LOK,0)),INDEX(Jmeno,MATCH(G19,Ev_c_LOK,0)),"")) | F19: =IF(G19="","",IF(ISNUMBER(MATCH(G19,Ev_c_LOK,0)),INDEX(RokNar,MATCH(G19,Ev_c_LOK,0)),"")) | H19: =IF(ISNUMBER(INDEX(ELOCR,MATCH(G19,Ev_c_LOK,0))),INDEX(ELOCR,MATCH(G19,Ev_c_LOK,0)),"") | I19: =IF(ISNUMBER(INDEX(FEvCis,MATCH(G19,Ev_c_LOK,0))),INDEX(FEvCis,MATCH(G19,Ev_c_LOK,0)),"") | J19: =IF(ISNUMBER(INDEX(ELOFIDE,MATCH(G19,Ev_c_LOK,0))),INDEX(ELOFIDE,MATCH(G19,Ev_c_LOK,0)),"") | K19: =CONCATENATE(AG19,AH19) | M19: =IF(ISNUMBER($AA$19),INDEX(Jmeno,$AA$19),"") | N19: =IF(ISNUMBER($AA$19),INDEX(RokNar,$AA$19),"") | O19: =IF(ISNUMBER($AA$19),INDEX(Ev_c_LOK,$AA$19),"") | P19: =IF(ISNUMBER($AA$19),INDEX(NazevOddil,$AA$19),"") | T19: Z,C - cizinec, který je hráčem základní sestavy | AA19: =MATCH(TRUE,INDEX(vyMaska,$AA18+1):evyMaska,0)+$AA18 -> #VALUE! | AB19: =IF(ISNUMBER($AA19),INDEX(RegPopl,$AA19),"") | AC19: =IF(ISNUMBER($AA19),INDEX(Kraj,$AA19),"") | AD19: =IF(ISNUMBER($AA19),INDEX(KodOddilu,$AA19),"") | AE19: =IF(ISNUMBER($AA19),INDEX(NazevOddil,$AA19),"") | AF19: =IF(ISNUMBER($AA$19),INDEX(Ev_c_LOK,$AA$19),"") | AG19: =IF(AND(E19="",G19=""),"",IF(ISNUMBER(MATCH(G19,Ev_c_LOK,0)),IF(AND(E19=INDEX(Jmeno,MATCH(G19,Ev_c_LOK,0)),F19=INDEX(RokNar,MATCH(G19,Ev_c_LOK,0))),IF(INDEX(NazevOddil,MATCH(G19,Ev_c_LOK,0))<>$H$47,IF(INDEX(RegPopl,MATCH(G19,Ev_c_LOK,0))=0,CONCATENATE("je členem ",INDEX(NazevOddil,MATCH(G19,Ev_c_LOK,0))," a je neaktivní"),CONCATENATE("je členem ",INDEX(NazevOddil,MATCH(G19,Ev_c_LOK,0)))),IF(INDEX(RegPopl,MATCH(G19,Ev_c_LOK,0))>0,"","je neaktivní")),"jméno nebo/a rok narození neodpovídá Ev.č. LOK"),"není registrován v ŠSČR")) | AH19: =IF(OR(COUNTIF($G$9:$G$28,$G19)>1,AND($I19<>"",COUNTIF($I$9:$I$28,$I19)>1))," - duplicita ID"," ") | AI19: =AND($P$44<>"",ISNUMBER(SEARCH(MID($P$44,1,2),číselníky!H19))) -> TRUE | AJ19: =MATCH(TRUE,INDEX(ikluby,$AJ18+1):enikluby,0)+$AJ18 -> 18 | AK19: =IF(ISNUMBER(AJ19),INDEX(Oddil,AJ19),"") -> 11033 TJ Zora Praha | AL19: =IF(OR(E19="",K19="není registrován v ŠSČR "),"",IF(INDEX(FED,MATCH(G19,Ev_c_LOK,0))<>"CZE","C",IF(CONCATENATE(INDEX(Kraj,MATCH(G19,Ev_c_LOK,0)),INDEX(KodOddilu,MATCH(G19,Ev_c_LOK,0)))<>$H$45,"H",""))) | AM19: =COUNTIF(B$9:B19,"V")+COUNTIF(B$9:B19,"H")+COUNTIF(B$9:B19,"C") -> 0 | AN19: =IF(AND(AM19>3,OR(B19="V",B19="H",B19="C")),"","Z") -> Z | AO19: =COUNTIF(AN$9:AN19,"Z") -> 11 | AP19: =IF(AND(E19<>"",AO19<9,AN19="Z"),"Z","") | AQ19: =IF(AND(B19="",C19=""),"",IF(AND(B19<>"",C19=""),B19,IF(AND(B19<>"",C19<>""),CONCATENATE(B19,",",C19),IF(AND(B19="",C19<>""),CONCATENATE(" -,",C19)))))
A20: 12 | B20: =AL20 | C20: =AP20 | D20: =AQ20 | E20: =IF(G20="","",IF(ISNUMBER(MATCH(G20,Ev_c_LOK,0)),INDEX(Jmeno,MATCH(G20,Ev_c_LOK,0)),"")) | F20: =IF(G20="","",IF(ISNUMBER(MATCH(G20,Ev_c_LOK,0)),INDEX(RokNar,MATCH(G20,Ev_c_LOK,0)),"")) | H20: =IF(ISNUMBER(INDEX(ELOCR,MATCH(G20,Ev_c_LOK,0))),INDEX(ELOCR,MATCH(G20,Ev_c_LOK,0)),"") | I20: =IF(ISNUMBER(INDEX(FEvCis,MATCH(G20,Ev_c_LOK,0))),INDEX(FEvCis,MATCH(G20,Ev_c_LOK,0)),"") | J20: =IF(ISNUMBER(INDEX(ELOFIDE,MATCH(G20,Ev_c_LOK,0))),INDEX(ELOFIDE,MATCH(G20,Ev_c_LOK,0)),"") | K20: =CONCATENATE(AG20,AH20) | M20: =IF(ISNUMBER($AA$20),INDEX(Jmeno,$AA$20),"") | N20: =IF(ISNUMBER($AA$20),INDEX(RokNar,$AA$20),"") | O20: =IF(ISNUMBER($AA$20),INDEX(Ev_c_LOK,$AA$20),"") | P20: =IF(ISNUMBER($AA$20),INDEX(NazevOddil,$AA$20),"") | AA20: =MATCH(TRUE,INDEX(vyMaska,$AA19+1):evyMaska,0)+$AA19 -> #VALUE! | AB20: =IF(ISNUMBER($AA20),INDEX(RegPopl,$AA20),"") | AC20: =IF(ISNUMBER($AA20),INDEX(Kraj,$AA20),"") | AD20: =IF(ISNUMBER($AA20),INDEX(KodOddilu,$AA20),"") | AE20: =IF(ISNUMBER($AA20),INDEX(NazevOddil,$AA20),"") | AF20: =IF(ISNUMBER($AA$20),INDEX(Ev_c_LOK,$AA$20),"") | AG20: =IF(AND(E20="",G20=""),"",IF(ISNUMBER(MATCH(G20,Ev_c_LOK,0)),IF(AND(E20=INDEX(Jmeno,MATCH(G20,Ev_c_LOK,0)),F20=INDEX(RokNar,MATCH(G20,Ev_c_LOK,0))),IF(INDEX(NazevOddil,MATCH(G20,Ev_c_LOK,0))<>$H$47,IF(INDEX(RegPopl,MATCH(G20,Ev_c_LOK,0))=0,CONCATENATE("je členem ",INDEX(NazevOddil,MATCH(G20,Ev_c_LOK,0))," a je neaktivní"),CONCATENATE("je členem ",INDEX(NazevOddil,MATCH(G20,Ev_c_LOK,0)))),IF(INDEX(RegPopl,MATCH(G20,Ev_c_LOK,0))>0,"","je neaktivní")),"jméno nebo/a rok narození neodpovídá Ev.č. LOK"),"není registrován v ŠSČR")) | AH20: =IF(OR(COUNTIF($G$9:$G$28,$G20)>1,AND($I20<>"",COUNTIF($I$9:$I$28,$I20)>1))," - duplicita ID"," ") | AI20: =AND($P$44<>"",ISNUMBER(SEARCH(MID($P$44,1,2),číselníky!H20))) -> TRUE | AJ20: =MATCH(TRUE,INDEX(ikluby,$AJ19+1):enikluby,0)+$AJ19 -> 19 | AK20: =IF(ISNUMBER(AJ20),INDEX(Oddil,AJ20),"") -> 11048 SK LISA | AL20: =IF(OR(E20="",K20="není registrován v ŠSČR "),"",IF(INDEX(FED,MATCH(G20,Ev_c_LOK,0))<>"CZE","C",IF(CONCATENATE(INDEX(Kraj,MATCH(G20,Ev_c_LOK,0)),INDEX(KodOddilu,MATCH(G20,Ev_c_LOK,0)))<>$H$45,"H",""))) | AM20: =COUNTIF(B$9:B20,"V")+COUNTIF(B$9:B20,"H")+COUNTIF(B$9:B20,"C") -> 0 | AN20: =IF(AND(AM20>3,OR(B20="V",B20="H",B20="C")),"","Z") -> Z | AO20: =COUNTIF(AN$9:AN20,"Z") -> 12 | AP20: =IF(AND(E20<>"",AO20<9,AN20="Z"),"Z","") | AQ20: =IF(AND(B20="",C20=""),"",IF(AND(B20<>"",C20=""),B20,IF(AND(B20<>"",C20<>""),CONCATENATE(B20,",",C20),IF(AND(B20="",C20<>""),CONCATENATE(" -,",C20)))))
A21: 13 | B21: =AL21 | C21: =AP21 | D21: =AQ21 | E21: =IF(G21="","",IF(ISNUMBER(MATCH(G21,Ev_c_LOK,0)),INDEX(Jmeno,MATCH(G21,Ev_c_LOK,0)),"")) | F21: =IF(G21="","",IF(ISNUMBER(MATCH(G21,Ev_c_LOK,0)),INDEX(RokNar,MATCH(G21,Ev_c_LOK,0)),"")) | H21: =IF(ISNUMBER(INDEX(ELOCR,MATCH(G21,Ev_c_LOK,0))),INDEX(ELOCR,MATCH(G21,Ev_c_LOK,0)),"") | I21: =IF(ISNUMBER(INDEX(FEvCis,MATCH(G21,Ev_c_LOK,0))),INDEX(FEvCis,MATCH(G21,Ev_c_LOK,0)),"") | J21: =IF(ISNUMBER(INDEX(ELOFIDE,MATCH(G21,Ev_c_LOK,0))),INDEX(ELOFIDE,MATCH(G21,Ev_c_LOK,0)),"") | K21: =CONCATENATE(AG21,AH21) | M21: =IF(ISNUMBER($AA$21),INDEX(Jmeno,$AA$21),"") | N21: =IF(ISNUMBER($AA$21),INDEX(RokNar,$AA$21),"") | O21: =IF(ISNUMBER($AA$21),INDEX(Ev_c_LOK,$AA$21),"") | P21: =IF(ISNUMBER($AA$21),INDEX(NazevOddil,$AA$21),"") | Q21: Tento formuář je propojen s daatabází členů ŠSČR, takže je možné využít automatického dosazování | AA21: =MATCH(TRUE,INDEX(vyMaska,$AA20+1):evyMaska,0)+$AA20 -> #VALUE! | AB21: =IF(ISNUMBER($AA21),INDEX(RegPopl,$AA21),"") | AC21: =IF(ISNUMBER($AA21),INDEX(Kraj,$AA21),"") | AD21: =IF(ISNUMBER($AA21),INDEX(KodOddilu,$AA21),"") | AE21: =IF(ISNUMBER($AA21),INDEX(NazevOddil,$AA21),"") | AF21: =IF(ISNUMBER($AA$21),INDEX(Ev_c_LOK,$AA$21),"") | AG21: =IF(AND(E21="",G21=""),"",IF(ISNUMBER(MATCH(G21,Ev_c_LOK,0)),IF(AND(E21=INDEX(Jmeno,MATCH(G21,Ev_c_LOK,0)),F21=INDEX(RokNar,MATCH(G21,Ev_c_LOK,0))),IF(INDEX(NazevOddil,MATCH(G21,Ev_c_LOK,0))<>$H$47,IF(INDEX(RegPopl,MATCH(G21,Ev_c_LOK,0))=0,CONCATENATE("je členem ",INDEX(NazevOddil,MATCH(G21,Ev_c_LOK,0))," a je neaktivní"),CONCATENATE("je členem ",INDEX(NazevOddil,MATCH(G21,Ev_c_LOK,0)))),IF(INDEX(RegPopl,MATCH(G21,Ev_c_LOK,0))>0,"","je neaktivní")),"jméno nebo/a rok narození neodpovídá Ev.č. LOK"),"není registrován v ŠSČR")) | AH21: =IF(OR(COUNTIF($G$9:$G$28,$G21)>1,AND($I21<>"",COUNTIF($I$9:$I$28,$I21)>1))," - duplicita ID"," ") | AI21: =AND($P$44<>"",ISNUMBER(SEARCH(MID($P$44,1,2),číselníky!H21))) -> TRUE | AJ21: =MATCH(TRUE,INDEX(ikluby,$AJ20+1):enikluby,0)+$AJ20 -> 20 | AK21: =IF(ISNUMBER(AJ21),INDEX(Oddil,AJ21),"") -> 11050 Unichess | AL21: =IF(OR(E21="",K21="není registrován v ŠSČR "),"",IF(INDEX(FED,MATCH(G21,Ev_c_LOK,0))<>"CZE","C",IF(CONCATENATE(INDEX(Kraj,MATCH(G21,Ev_c_LOK,0)),INDEX(KodOddilu,MATCH(G21,Ev_c_LOK,0)))<>$H$45,"H",""))) | AM21: =COUNTIF(B$9:B21,"V")+COUNTIF(B$9:B21,"H")+COUNTIF(B$9:B21,"C") -> 0 | AN21: =IF(AND(AM21>3,OR(B21="V",B21="H",B21="C")),"","Z") -> Z | AO21: =COUNTIF(AN$9:AN21,"Z") -> 13 | AP21: =IF(AND(E21<>"",AO21<9,AN21="Z"),"Z","") | AQ21: =IF(AND(B21="",C21=""),"",IF(AND(B21<>"",C21=""),B21,IF(AND(B21<>"",C21<>""),CONCATENATE(B21,",",C21),IF(AND(B21="",C21<>""),CONCATENATE(" -,",C21)))))
A22: 14 | B22: =AL22 | C22: =AP22 | D22: =AQ22 | E22: =IF(G22="","",IF(ISNUMBER(MATCH(G22,Ev_c_LOK,0)),INDEX(Jmeno,MATCH(G22,Ev_c_LOK,0)),"")) | F22: =IF(G22="","",IF(ISNUMBER(MATCH(G22,Ev_c_LOK,0)),INDEX(RokNar,MATCH(G22,Ev_c_LOK,0)),"")) | H22: =IF(ISNUMBER(INDEX(ELOCR,MATCH(G22,Ev_c_LOK,0))),INDEX(ELOCR,MATCH(G22,Ev_c_LOK,0)),"") | I22: =IF(ISNUMBER(INDEX(FEvCis,MATCH(G22,Ev_c_LOK,0))),INDEX(FEvCis,MATCH(G22,Ev_c_LOK,0)),"") | J22: =IF(ISNUMBER(INDEX(ELOFIDE,MATCH(G22,Ev_c_LOK,0))),INDEX(ELOFIDE,MATCH(G22,Ev_c_LOK,0)),"") | K22: =CONCATENATE(AG22,AH22) | M22: =IF(ISNUMBER($AA$22),INDEX(Jmeno,$AA$22),"") | N22: =IF(ISNUMBER($AA$22),INDEX(RokNar,$AA$22),"") | O22: =IF(ISNUMBER($AA$22),INDEX(Ev_c_LOK,$AA$22),"") | P22: =IF(ISNUMBER($AA$22),INDEX(NazevOddil,$AA$22),"") | Q22: údaků o hráči zadáním pouze Ev.č. LOK, a případou nápovědu vyhledáváním přes buňku K7. | AA22: =MATCH(TRUE,INDEX(vyMaska,$AA21+1):evyMaska,0)+$AA21 -> #VALUE! | AB22: =IF(ISNUMBER($AA22),INDEX(RegPopl,$AA22),"") | AC22: =IF(ISNUMBER($AA22),INDEX(Kraj,$AA22),"") | AD22: =IF(ISNUMBER($AA22),INDEX(KodOddilu,$AA22),"") | AE22: =IF(ISNUMBER($AA22),INDEX(NazevOddil,$AA22),"") | AF22: =IF(ISNUMBER($AA$22),INDEX(Ev_c_LOK,$AA$22),"") | AG22: =IF(AND(E22="",G22=""),"",IF(ISNUMBER(MATCH(G22,Ev_c_LOK,0)),IF(AND(E22=INDEX(Jmeno,MATCH(G22,Ev_c_LOK,0)),F22=INDEX(RokNar,MATCH(G22,Ev_c_LOK,0))),IF(INDEX(NazevOddil,MATCH(G22,Ev_c_LOK,0))<>$H$47,IF(INDEX(RegPopl,MATCH(G22,Ev_c_LOK,0))=0,CONCATENATE("je členem ",INDEX(NazevOddil,MATCH(G22,Ev_c_LOK,0))," a je neaktivní"),CONCATENATE("je členem ",INDEX(NazevOddil,MATCH(G22,Ev_c_LOK,0)))),IF(INDEX(RegPopl,MATCH(G22,Ev_c_LOK,0))>0,"","je neaktivní")),"jméno nebo/a rok narození neodpovídá Ev.č. LOK"),"není registrován v ŠSČR")) | AH22: =IF(OR(COUNTIF($G$9:$G$28,$G22)>1,AND($I22<>"",COUNTIF($I$9:$I$28,$I22)>1))," - duplicita ID"," ") | AI22: =AND($P$44<>"",ISNUMBER(SEARCH(MID($P$44,1,2),číselníky!H22))) -> TRUE | AJ22: =MATCH(TRUE,INDEX(ikluby,$AJ21+1):enikluby,0)+$AJ21 -> 21 | AK22: =IF(ISNUMBER(AJ22),INDEX(Oddil,AJ22),"") -> 11051 Šachový klub Bohnice | AL22: =IF(OR(E22="",K22="není registrován v ŠSČR "),"",IF(INDEX(FED,MATCH(G22,Ev_c_LOK,0))<>"CZE","C",IF(CONCATENATE(INDEX(Kraj,MATCH(G22,Ev_c_LOK,0)),INDEX(KodOddilu,MATCH(G22,Ev_c_LOK,0)))<>$H$45,"H",""))) | AM22: =COUNTIF(B$9:B22,"V")+COUNTIF(B$9:B22,"H")+COUNTIF(B$9:B22,"C") -> 0 | AN22: =IF(AND(AM22>3,OR(B22="V",B22="H",B22="C")),"","Z") -> Z | AO22: =COUNTIF(AN$9:AN22,"Z") -> 14 | AP22: =IF(AND(E22<>"",AO22<9,AN22="Z"),"Z","") | AQ22: =IF(AND(B22="",C22=""),"",IF(AND(B22<>"",C22=""),B22,IF(AND(B22<>"",C22<>""),CONCATENATE(B22,",",C22),IF(AND(B22="",C22<>""),CONCATENATE(" -,",C22)))))
A23: 15 | B23: =AL23 | C23: =AP23 | D23: =AQ23 | E23: =IF(G23="","",IF(ISNUMBER(MATCH(G23,Ev_c_LOK,0)),INDEX(Jmeno,MATCH(G23,Ev_c_LOK,0)),"")) | F23: =IF(G23="","",IF(ISNUMBER(MATCH(G23,Ev_c_LOK,0)),INDEX(RokNar,MATCH(G23,Ev_c_LOK,0)),"")) | H23: =IF(ISNUMBER(INDEX(ELOCR,MATCH(G23,Ev_c_LOK,0))),INDEX(ELOCR,MATCH(G23,Ev_c_LOK,0)),"") | I23: =IF(ISNUMBER(INDEX(FEvCis,MATCH(G23,Ev_c_LOK,0))),INDEX(FEvCis,MATCH(G23,Ev_c_LOK,0)),"") | J23: =IF(ISNUMBER(INDEX(ELOFIDE,MATCH(G23,Ev_c_LOK,0))),INDEX(ELOFIDE,MATCH(G23,Ev_c_LOK,0)),"") | K23: =CONCATENATE(AG23,AH23) | M23: =IF(ISNUMBER($AA$23),INDEX(Jmeno,$AA$23),"") | N23: =IF(ISNUMBER($AA$23),INDEX(RokNar,$AA$23),"") | O23: =IF(ISNUMBER($AA$23),INDEX(Ev_c_LOK,$AA$23),"") | P23: =IF(ISNUMBER($AA$23),INDEX(NazevOddil,$AA$23),"") | AA23: =MATCH(TRUE,INDEX(vyMaska,$AA22+1):evyMaska,0)+$AA22 -> #VALUE! | AB23: =IF(ISNUMBER($AA23),INDEX(RegPopl,$AA23),"") | AC23: =IF(ISNUMBER($AA23),INDEX(Kraj,$AA23),"") | AD23: =IF(ISNUMBER($AA23),INDEX(KodOddilu,$AA23),"") | AE23: =IF(ISNUMBER($AA23),INDEX(NazevOddil,$AA23),"") | AF23: =IF(ISNUMBER($AA$23),INDEX(Ev_c_LOK,$AA$23),"") | AG23: =IF(AND(E23="",G23=""),"",IF(ISNUMBER(MATCH(G23,Ev_c_LOK,0)),IF(AND(E23=INDEX(Jmeno,MATCH(G23,Ev_c_LOK,0)),F23=INDEX(RokNar,MATCH(G23,Ev_c_LOK,0))),IF(INDEX(NazevOddil,MATCH(G23,Ev_c_LOK,0))<>$H$47,IF(INDEX(RegPopl,MATCH(G23,Ev_c_LOK,0))=0,CONCATENATE("je členem ",INDEX(NazevOddil,MATCH(G23,Ev_c_LOK,0))," a je neaktivní"),CONCATENATE("je členem ",INDEX(NazevOddil,MATCH(G23,Ev_c_LOK,0)))),IF(INDEX(RegPopl,MATCH(G23,Ev_c_LOK,0))>0,"","je neaktivní")),"jméno nebo/a rok narození neodpovídá Ev.č. LOK"),"není registrován v ŠSČR")) | AH23: =IF(OR(COUNTIF($G$9:$G$28,$G23)>1,AND($I23<>"",COUNTIF($I$9:$I$28,$I23)>1))," - duplicita ID"," ") | AI23: =AND($P$44<>"",ISNUMBER(SEARCH(MID($P$44,1,2),číselníky!H23))) -> TRUE | AJ23: =MATCH(TRUE,INDEX(ikluby,$AJ22+1):enikluby,0)+$AJ22 -> 22 | AK23: =IF(ISNUMBER(AJ23),INDEX(Oddil,AJ23),"") -> 11053 SK Lokomotiva Radlice | AL23: =IF(OR(E23="",K23="není registrován v ŠSČR "),"",IF(INDEX(FED,MATCH(G23,Ev_c_LOK,0))<>"CZE","C",IF(CONCATENATE(INDEX(Kraj,MATCH(G23,Ev_c_LOK,0)),INDEX(KodOddilu,MATCH(G23,Ev_c_LOK,0)))<>$H$45,"H",""))) | AM23: =COUNTIF(B$9:B23,"V")+COUNTIF(B$9:B23,"H")+COUNTIF(B$9:B23,"C") -> 0 | AN23: =IF(AND(AM23>3,OR(B23="V",B23="H",B23="C")),"","Z") -> Z | AO23: =COUNTIF(AN$9:AN23,"Z") -> 15 | AP23: =IF(AND(E23<>"",AO23<9,AN23="Z"),"Z","") | AQ23: =IF(AND(B23="",C23=""),"",IF(AND(B23<>"",C23=""),B23,IF(AND(B23<>"",C23<>""),CONCATENATE(B23,",",C23),IF(AND(B23="",C23<>""),CONCATENATE(" -,",C23)))))
A24: 16 | B24: =AL24 | C24: =AP24 | D24: =AQ24 | E24: =IF(G24="","",IF(ISNUMBER(MATCH(G24,Ev_c_LOK,0)),INDEX(Jmeno,MATCH(G24,Ev_c_LOK,0)),"")) | F24: =IF(G24="","",IF(ISNUMBER(MATCH(G24,Ev_c_LOK,0)),INDEX(RokNar,MATCH(G24,Ev_c_LOK,0)),"")) | H24: =IF(ISNUMBER(INDEX(ELOCR,MATCH(G24,Ev_c_LOK,0))),INDEX(ELOCR,MATCH(G24,Ev_c_LOK,0)),"") | I24: =IF(ISNUMBER(INDEX(FEvCis,MATCH(G24,Ev_c_LOK,0))),INDEX(FEvCis,MATCH(G24,Ev_c_LOK,0)),"") | J24: =IF(ISNUMBER(INDEX(ELOFIDE,MATCH(G24,Ev_c_LOK,0))),INDEX(ELOFIDE,MATCH(G24,Ev_c_LOK,0)),"") | K24: =CONCATENATE(AG24,AH24) | M24: =IF(ISNUMBER($AA$24),INDEX(Jmeno,$AA$24),"") | N24: =IF(ISNUMBER($AA$24),INDEX(RokNar,$AA$24),"") | O24: =IF(ISNUMBER($AA$24),INDEX(Ev_c_LOK,$AA$24),"") | P24: =IF(ISNUMBER($AA$24),INDEX(NazevOddil,$AA$24),"") | Q24: poznámky | AA24: =MATCH(TRUE,INDEX(vyMaska,$AA23+1):evyMaska,0)+$AA23 -> #VALUE! | AB24: =IF(ISNUMBER($AA24),INDEX(RegPopl,$AA24),"") | AC24: =IF(ISNUMBER($AA24),INDEX(Kraj,$AA24),"") | AD24: =IF(ISNUMBER($AA24),INDEX(KodOddilu,$AA24),"") | AE24: =IF(ISNUMBER($AA24),INDEX(NazevOddil,$AA24),"") | AF24: =IF(ISNUMBER($AA$24),INDEX(Ev_c_LOK,$AA$24),"") | AG24: =IF(AND(E24="",G24=""),"",IF(ISNUMBER(MATCH(G24,Ev_c_LOK,0)),IF(AND(E24=INDEX(Jmeno,MATCH(G24,Ev_c_LOK,0)),F24=INDEX(RokNar,MATCH(G24,Ev_c_LOK,0))),IF(INDEX(NazevOddil,MATCH(G24,Ev_c_LOK,0))<>$H$47,IF(INDEX(RegPopl,MATCH(G24,Ev_c_LOK,0))=0,CONCATENATE("je členem ",INDEX(NazevOddil,MATCH(G24,Ev_c_LOK,0))," a je neaktivní"),CONCATENATE("je členem ",INDEX(NazevOddil,MATCH(G24,Ev_c_LOK,0)))),IF(INDEX(RegPopl,MATCH(G24,Ev_c_LOK,0))>0,"","je neaktivní")),"jméno nebo/a rok narození neodpovídá Ev.č. LOK"),"není registrován v ŠSČR")) | AH24: =IF(OR(COUNTIF($G$9:$G$28,$G24)>1,AND($I24<>"",COUNTIF($I$9:$I$28,$I24)>1))," - duplicita ID"," ") | AI24: =AND($P$44<>"",ISNUMBER(SEARCH(MID($P$44,1,2),číselníky!H24))) -> TRUE | AJ24: =MATCH(TRUE,INDEX(ikluby,$AJ23+1):enikluby,0)+$AJ23 -> 23 | AK24: =IF(ISNUMBER(AJ24),INDEX(Oddil,AJ24),"") -> 11054 Šachový spolek Újezd nad Lesy | AL24: =IF(OR(E24="",K24="není registrován v ŠSČR "),"",IF(INDEX(FED,MATCH(G24,Ev_c_LOK,0))<>"CZE","C",IF(CONCATENATE(INDEX(Kraj,MATCH(G24,Ev_c_LOK,0)),INDEX(KodOddilu,MATCH(G24,Ev_c_LOK,0)))<>$H$45,"H",""))) | AM24: =COUNTIF(B$9:B24,"V")+COUNTIF(B$9:B24,"H")+COUNTIF(B$9:B24,"C") -> 0 | AN24: =IF(AND(AM24>3,OR(B24="V",B24="H",B24="C")),"","Z") -> Z | AO24: =COUNTIF(AN$9:AN24,"Z") -> 16 | AP24: =IF(AND(E24<>"",AO24<9,AN24="Z"),"Z","") | AQ24: =IF(AND(B24="",C24=""),"",IF(AND(B24<>"",C24=""),B24,IF(AND(B24<>"",C24<>""),CONCATENATE(B24,",",C24),IF(AND(B24="",C24<>""),CONCATENATE(" -,",C24)))))
A25: 17 | B25: =AL25 | C25: =AP25 | D25: =AQ25 | E25: =IF(G25="","",IF(ISNUMBER(MATCH(G25,Ev_c_LOK,0)),INDEX(Jmeno,MATCH(G25,Ev_c_LOK,0)),"")) | F25: =IF(G25="","",IF(ISNUMBER(MATCH(G25,Ev_c_LOK,0)),INDEX(RokNar,MATCH(G25,Ev_c_LOK,0)),"")) | H25: =IF(ISNUMBER(INDEX(ELOCR,MATCH(G25,Ev_c_LOK,0))),INDEX(ELOCR,MATCH(G25,Ev_c_LOK,0)),"") | I25: =IF(ISNUMBER(INDEX(FEvCis,MATCH(G25,Ev_c_LOK,0))),INDEX(FEvCis,MATCH(G25,Ev_c_LOK,0)),"") | J25: =IF(ISNUMBER(INDEX(ELOFIDE,MATCH(G25,Ev_c_LOK,0))),INDEX(ELOFIDE,MATCH(G25,Ev_c_LOK,0)),"") | K25: =CONCATENATE(AG25,AH25) | M25: =IF(ISNUMBER($AA$25),INDEX(Jmeno,$AA$25),"") | N25: =IF(ISNUMBER($AA$25),INDEX(RokNar,$AA$25),"") | O25: =IF(ISNUMBER($AA$25),INDEX(Ev_c_LOK,$AA$25),"") | P25: =IF(ISNUMBER($AA$25),INDEX(NazevOddil,$AA$25),"") | AA25: =MATCH(TRUE,INDEX(vyMaska,$AA24+1):evyMaska,0)+$AA24 -> #VALUE! | AB25: =IF(ISNUMBER($AA25),INDEX(RegPopl,$AA25),"") | AC25: =IF(ISNUMBER($AA25),INDEX(Kraj,$AA25),"") | AD25: =IF(ISNUMBER($AA25),INDEX(KodOddilu,$AA25),"") | AE25: =IF(ISNUMBER($AA25),INDEX(NazevOddil,$AA25),"") | AF25: =IF(ISNUMBER($AA$25),INDEX(Ev_c_LOK,$AA$25),"") | AG25: =IF(AND(E25="",G25=""),"",IF(ISNUMBER(MATCH(G25,Ev_c_LOK,0)),IF(AND(E25=INDEX(Jmeno,MATCH(G25,Ev_c_LOK,0)),F25=INDEX(RokNar,MATCH(G25,Ev_c_LOK,0))),IF(INDEX(NazevOddil,MATCH(G25,Ev_c_LOK,0))<>$H$47,IF(INDEX(RegPopl,MATCH(G25,Ev_c_LOK,0))=0,CONCATENATE("je členem ",INDEX(NazevOddil,MATCH(G25,Ev_c_LOK,0))," a je neaktivní"),CONCATENATE("je členem ",INDEX(NazevOddil,MATCH(G25,Ev_c_LOK,0)))),IF(INDEX(RegPopl,MATCH(G25,Ev_c_LOK,0))>0,"","je neaktivní")),"jméno nebo/a rok narození neodpovídá Ev.č. LOK"),"není registrován v ŠSČR")) | AH25: =IF(OR(COUNTIF($G$9:$G$28,$G25)>1,AND($I25<>"",COUNTIF($I$9:$I$28,$I25)>1))," - duplicita ID"," ") | AI25: =AND($P$44<>"",ISNUMBER(SEARCH(MID($P$44,1,2),číselníky!H25))) -> TRUE | AJ25: =MATCH(TRUE,INDEX(ikluby,$AJ24+1):enikluby,0)+$AJ24 -> 24 | AK25: =IF(ISNUMBER(AJ25),INDEX(Oddil,AJ25),"") -> 11055 Šachový oddíl TJ DUKLA Praha | AL25: =IF(OR(E25="",K25="není registrován v ŠSČR "),"",IF(INDEX(FED,MATCH(G25,Ev_c_LOK,0))<>"CZE","C",IF(CONCATENATE(INDEX(Kraj,MATCH(G25,Ev_c_LOK,0)),INDEX(KodOddilu,MATCH(G25,Ev_c_LOK,0)))<>$H$45,"H",""))) | AM25: =COUNTIF(B$9:B25,"V")+COUNTIF(B$9:B25,"H")+COUNTIF(B$9:B25,"C") -> 0 | AN25: =IF(AND(AM25>3,OR(B25="V",B25="H",B25="C")),"","Z") -> Z | AO25: =COUNTIF(AN$9:AN25,"Z") -> 17 | AP25: =IF(AND(E25<>"",AO25<9,AN25="Z"),"Z","") | AQ25: =IF(AND(B25="",C25=""),"",IF(AND(B25<>"",C25=""),B25,IF(AND(B25<>"",C25<>""),CONCATENATE(B25,",",C25),IF(AND(B25="",C25<>""),CONCATENATE(" -,",C25)))))
A26: 18 | B26: =AL26 | C26: =AP26 | D26: =AQ26 | E26: =IF(G26="","",IF(ISNUMBER(MATCH(G26,Ev_c_LOK,0)),INDEX(Jmeno,MATCH(G26,Ev_c_LOK,0)),"")) | F26: =IF(G26="","",IF(ISNUMBER(MATCH(G26,Ev_c_LOK,0)),INDEX(RokNar,MATCH(G26,Ev_c_LOK,0)),"")) | H26: =IF(ISNUMBER(INDEX(ELOCR,MATCH(G26,Ev_c_LOK,0))),INDEX(ELOCR,MATCH(G26,Ev_c_LOK,0)),"") | I26: =IF(ISNUMBER(INDEX(FEvCis,MATCH(G26,Ev_c_LOK,0))),INDEX(FEvCis,MATCH(G26,Ev_c_LOK,0)),"") | J26: =IF(ISNUMBER(INDEX(ELOFIDE,MATCH(G26,Ev_c_LOK,0))),INDEX(ELOFIDE,MATCH(G26,Ev_c_LOK,0)),"") | K26: =CONCATENATE(AG26,AH26) | M26: =IF(ISNUMBER($AA$26),INDEX(Jmeno,$AA$26),"") | N26: =IF(ISNUMBER($AA$26),INDEX(RokNar,$AA$26),"") | O26: =IF(ISNUMBER($AA$26),INDEX(Ev_c_LOK,$AA$26),"") | P26: =IF(ISNUMBER($AA$26),INDEX(NazevOddil,$AA$26),"") | AA26: =MATCH(TRUE,INDEX(vyMaska,$AA25+1):evyMaska,0)+$AA25 -> #VALUE! | AB26: =IF(ISNUMBER($AA26),INDEX(RegPopl,$AA26),"") | AC26: =IF(ISNUMBER($AA26),INDEX(Kraj,$AA26),"") | AD26: =IF(ISNUMBER($AA26),INDEX(KodOddilu,$AA26),"") | AE26: =IF(ISNUMBER($AA26),INDEX(NazevOddil,$AA26),"") | AF26: =IF(ISNUMBER($AA$26),INDEX(Ev_c_LOK,$AA$26),"") | AG26: =IF(AND(E26="",G26=""),"",IF(ISNUMBER(MATCH(G26,Ev_c_LOK,0)),IF(AND(E26=INDEX(Jmeno,MATCH(G26,Ev_c_LOK,0)),F26=INDEX(RokNar,MATCH(G26,Ev_c_LOK,0))),IF(INDEX(NazevOddil,MATCH(G26,Ev_c_LOK,0))<>$H$47,IF(INDEX(RegPopl,MATCH(G26,Ev_c_LOK,0))=0,CONCATENATE("je členem ",INDEX(NazevOddil,MATCH(G26,Ev_c_LOK,0))," a je neaktivní"),CONCATENATE("je členem ",INDEX(NazevOddil,MATCH(G26,Ev_c_LOK,0)))),IF(INDEX(RegPopl,MATCH(G26,Ev_c_LOK,0))>0,"","je neaktivní")),"jméno nebo/a rok narození neodpovídá Ev.č. LOK"),"není registrován v ŠSČR")) | AH26: =IF(OR(COUNTIF($G$9:$G$28,$G26)>1,AND($I26<>"",COUNTIF($I$9:$I$28,$I26)>1))," - duplicita ID"," ") | AI26: =AND($P$44<>"",ISNUMBER(SEARCH(MID($P$44,1,2),číselníky!H26))) -> TRUE | AJ26: =MATCH(TRUE,INDEX(ikluby,$AJ25+1):enikluby,0)+$AJ25 -> 25 | AK26: =IF(ISNUMBER(AJ26),INDEX(Oddil,AJ26),"") -> 11058 ŠK Mlejn | AL26: =IF(OR(E26="",K26="není registrován v ŠSČR "),"",IF(INDEX(FED,MATCH(G26,Ev_c_LOK,0))<>"CZE","C",IF(CONCATENATE(INDEX(Kraj,MATCH(G26,Ev_c_LOK,0)),INDEX(KodOddilu,MATCH(G26,Ev_c_LOK,0)))<>$H$45,"H",""))) | AM26: =COUNTIF(B$9:B26,"V")+COUNTIF(B$9:B26,"H")+COUNTIF(B$9:B26,"C") -> 0 | AN26: =IF(AND(AM26>3,OR(B26="V",B26="H",B26="C")),"","Z") -> Z | AO26: =COUNTIF(AN$9:AN26,"Z") -> 18 | AP26: =IF(AND(E26<>"",AO26<9,AN26="Z"),"Z","") | AQ26: =IF(AND(B26="",C26=""),"",IF(AND(B26<>"",C26=""),B26,IF(AND(B26<>"",C26<>""),CONCATENATE(B26,",",C26),IF(AND(B26="",C26<>""),CONCATENATE(" -,",C26)))))
A27: 19 | B27: =AL27 | C27: =AP27 | D27: =AQ27 | E27: =IF(G27="","",IF(ISNUMBER(MATCH(G27,Ev_c_LOK,0)),INDEX(Jmeno,MATCH(G27,Ev_c_LOK,0)),"")) | F27: =IF(G27="","",IF(ISNUMBER(MATCH(G27,Ev_c_LOK,0)),INDEX(RokNar,MATCH(G27,Ev_c_LOK,0)),"")) | H27: =IF(ISNUMBER(INDEX(ELOCR,MATCH(G27,Ev_c_LOK,0))),INDEX(ELOCR,MATCH(G27,Ev_c_LOK,0)),"") | I27: =IF(ISNUMBER(INDEX(FEvCis,MATCH(G27,Ev_c_LOK,0))),INDEX(FEvCis,MATCH(G27,Ev_c_LOK,0)),"") | J27: =IF(ISNUMBER(INDEX(ELOFIDE,MATCH(G27,Ev_c_LOK,0))),INDEX(ELOFIDE,MATCH(G27,Ev_c_LOK,0)),"") | K27: =CONCATENATE(AG27,AH27) | M27: =IF(ISNUMBER($AA$27),INDEX(Jmeno,$AA$27),"") | N27: =IF(ISNUMBER($AA$27),INDEX(RokNar,$AA$27),"") | O27: =IF(ISNUMBER($AA$27),INDEX(Ev_c_LOK,$AA$27),"") | P27: =IF(ISNUMBER($AA$27),INDEX(NazevOddil,$AA$27),"") | AA27: =MATCH(TRUE,INDEX(vyMaska,$AA26+1):evyMaska,0)+$AA26 -> #VALUE! | AB27: =IF(ISNUMBER($AA27),INDEX(RegPopl,$AA27),"") | AC27: =IF(ISNUMBER($AA27),INDEX(Kraj,$AA27),"") | AD27: =IF(ISNUMBER($AA27),INDEX(KodOddilu,$AA27),"") | AE27: =IF(ISNUMBER($AA27),INDEX(NazevOddil,$AA27),"") | AF27: =IF(ISNUMBER($AA$27),INDEX(Ev_c_LOK,$AA$27),"") | AG27: =IF(AND(E27="",G27=""),"",IF(ISNUMBER(MATCH(G27,Ev_c_LOK,0)),IF(AND(E27=INDEX(Jmeno,MATCH(G27,Ev_c_LOK,0)),F27=INDEX(RokNar,MATCH(G27,Ev_c_LOK,0))),IF(INDEX(NazevOddil,MATCH(G27,Ev_c_LOK,0))<>$H$47,IF(INDEX(RegPopl,MATCH(G27,Ev_c_LOK,0))=0,CONCATENATE("je členem ",INDEX(NazevOddil,MATCH(G27,Ev_c_LOK,0))," a je neaktivní"),CONCATENATE("je členem ",INDEX(NazevOddil,MATCH(G27,Ev_c_LOK,0)))),IF(INDEX(RegPopl,MATCH(G27,Ev_c_LOK,0))>0,"","je neaktivní")),"jméno nebo/a rok narození neodpovídá Ev.č. LOK"),"není registrován v ŠSČR")) | AH27: =IF(OR(COUNTIF($G$9:$G$28,$G27)>1,AND($I27<>"",COUNTIF($I$9:$I$28,$I27)>1))," - duplicita ID"," ") | AI27: =AND($P$44<>"",ISNUMBER(SEARCH(MID($P$44,1,2),číselníky!H27))) -> TRUE | AJ27: =MATCH(TRUE,INDEX(ikluby,$AJ26+1):enikluby,0)+$AJ26 -> 26 | AK27: =IF(ISNUMBER(AJ27),INDEX(Oddil,AJ27),"") -> 11059 ŠK Aurora | AL27: =IF(OR(E27="",K27="není registrován v ŠSČR "),"",IF(INDEX(FED,MATCH(G27,Ev_c_LOK,0))<>"CZE","C",IF(CONCATENATE(INDEX(Kraj,MATCH(G27,Ev_c_LOK,0)),INDEX(KodOddilu,MATCH(G27,Ev_c_LOK,0)))<>$H$45,"H",""))) | AM27: =COUNTIF(B$9:B27,"V")+COUNTIF(B$9:B27,"H")+COUNTIF(B$9:B27,"C") -> 0 | AN27: =IF(AND(AM27>3,OR(B27="V",B27="H",B27="C")),"","Z") -> Z | AO27: =COUNTIF(AN$9:AN27,"Z") -> 19 | AP27: =IF(AND(E27<>"",AO27<9,AN27="Z"),"Z","") | AQ27: =IF(AND(B27="",C27=""),"",IF(AND(B27<>"",C27=""),B27,IF(AND(B27<>"",C27<>""),CONCATENATE(B27,",",C27),IF(AND(B27="",C27<>""),CONCATENATE(" -,",C27)))))
A28: 20 | B28: =AL28 | C28: =AP28 | D28: =AQ28 | E28: =IF(G28="","",IF(ISNUMBER(MATCH(G28,Ev_c_LOK,0)),INDEX(Jmeno,MATCH(G28,Ev_c_LOK,0)),"")) | F28: =IF(G28="","",IF(ISNUMBER(MATCH(G28,Ev_c_LOK,0)),INDEX(RokNar,MATCH(G28,Ev_c_LOK,0)),"")) | H28: =IF(ISNUMBER(INDEX(ELOCR,MATCH(G28,Ev_c_LOK,0))),INDEX(ELOCR,MATCH(G28,Ev_c_LOK,0)),"") | I28: =IF(ISNUMBER(INDEX(FEvCis,MATCH(G28,Ev_c_LOK,0))),INDEX(FEvCis,MATCH(G28,Ev_c_LOK,0)),"") | J28: =IF(ISNUMBER(INDEX(ELOFIDE,MATCH(G28,Ev_c_LOK,0))),INDEX(ELOFIDE,MATCH(G28,Ev_c_LOK,0)),"") | K28: =CONCATENATE(AG28,AH28) | M28: =IF(ISNUMBER($AA$28),INDEX(Jmeno,$AA$28),"") | N28: =IF(ISNUMBER($AA$28),INDEX(RokNar,$AA$28),"") | O28: =IF(ISNUMBER($AA$28),INDEX(Ev_c_LOK,$AA$28),"") | P28: =IF(ISNUMBER($AA$28),INDEX(NazevOddil,$AA$28),"") | AA28: =MATCH(TRUE,INDEX(vyMaska,$AA27+1):evyMaska,0)+$AA27 -> #VALUE! | AB28: =IF(ISNUMBER($AA28),INDEX(RegPopl,$AA28),"") | AC28: =IF(ISNUMBER($AA28),INDEX(Kraj,$AA28),"") | AD28: =IF(ISNUMBER($AA28),INDEX(KodOddilu,$AA28),"") | AE28: =IF(ISNUMBER($AA28),INDEX(NazevOddil,$AA28),"") | AF28: =IF(ISNUMBER($AA$28),INDEX(Ev_c_LOK,$AA$28),"") | AG28: =IF(AND(E28="",G28=""),"",IF(ISNUMBER(MATCH(G28,Ev_c_LOK,0)),IF(AND(E28=INDEX(Jmeno,MATCH(G28,Ev_c_LOK,0)),F28=INDEX(RokNar,MATCH(G28,Ev_c_LOK,0))),IF(INDEX(NazevOddil,MATCH(G28,Ev_c_LOK,0))<>$H$47,IF(INDEX(RegPopl,MATCH(G28,Ev_c_LOK,0))=0,CONCATENATE("je členem ",INDEX(NazevOddil,MATCH(G28,Ev_c_LOK,0))," a je neaktivní"),CONCATENATE("je členem ",INDEX(NazevOddil,MATCH(G28,Ev_c_LOK,0)))),IF(INDEX(RegPopl,MATCH(G28,Ev_c_LOK,0))>0,"","je neaktivní")),"jméno nebo/a rok narození neodpovídá Ev.č. LOK"),"není registrován v ŠSČR")) | AH28: =IF(OR(COUNTIF($G$9:$G$28,$G28)>1,AND($I28<>"",COUNTIF($I$9:$I$28,$I28)>1))," - duplicita ID"," ") | AI28: =AND($P$44<>"",ISNUMBER(SEARCH(MID($P$44,1,2),číselníky!H28))) -> TRUE | AJ28: =MATCH(TRUE,INDEX(ikluby,$AJ27+1):enikluby,0)+$AJ27 -> 27 | AK28: =IF(ISNUMBER(AJ28),INDEX(Oddil,AJ28),"") -> 11060 Steinitz - Makabi Praha | AL28: =IF(OR(E28="",K28="není registrován v ŠSČR "),"",IF(INDEX(FED,MATCH(G28,Ev_c_LOK,0))<>"CZE","C",IF(CONCATENATE(INDEX(Kraj,MATCH(G28,Ev_c_LOK,0)),INDEX(KodOddilu,MATCH(G28,Ev_c_LOK,0)))<>$H$45,"H",""))) | AM28: =COUNTIF(B$9:B28,"V")+COUNTIF(B$9:B28,"H")+COUNTIF(B$9:B28,"C") -> 0 | AN28: =IF(AND(AM28>3,OR(B28="V",B28="H",B28="C")),"","Z") -> Z | AO28: =COUNTIF(AN$9:AN28,"Z") -> 20 | AP28: =IF(AND(E28<>"",AO28<9,AN28="Z"),"Z","") | AQ28: =IF(AND(B28="",C28=""),"",IF(AND(B28<>"",C28=""),B28,IF(AND(B28<>"",C28<>""),CONCATENATE(B28,",",C28),IF(AND(B28="",C28<>""),CONCATENATE(" -,",C28)))))
M29: =IF(ISNUMBER($AA$29),INDEX(Jmeno,$AA$29),"") | N29: =IF(ISNUMBER($AA$29),INDEX(RokNar,$AA$29),"") | O29: =IF(ISNUMBER($AA$29),INDEX(Ev_c_LOK,$AA$29),"") | P29: =IF(ISNUMBER($AA$28),INDEX(NazevOddil,$AA$28),"") | AA29: =MATCH(TRUE,INDEX(vyMaska,$AA28+1):evyMaska,0)+$AA28 -> #VALUE! | AB29: =IF(ISNUMBER($AA29),INDEX(RegPopl,$AA29),"") | AC29: =IF(ISNUMBER($AA29),INDEX(Kraj,$AA29),"") | AD29: =IF(ISNUMBER($AA29),INDEX(KodOddilu,$AA29),"") | AE29: =IF(ISNUMBER($AA29),INDEX(NazevOddil,$AA29),"") | AF29: =IF(ISNUMBER($AA$29),INDEX(Ev_c_LOK,$AA$29),"") | AI29: =AND($P$44<>"",ISNUMBER(SEARCH(MID($P$44,1,2),číselníky!H29))) -> TRUE | AJ29: =MATCH(TRUE,INDEX(ikluby,$AJ28+1):enikluby,0)+$AJ28 -> 28 | AK29: =IF(ISNUMBER(AJ29),INDEX(Oddil,AJ29),"") -> 11061 Sokol Nebušice
F30: hrací den | H30: čas | M30: =IF(ISNUMBER($AA$30),INDEX(Jmeno,$AA$30),"") | N30: =IF(ISNUMBER($AA$30),INDEX(RokNar,$AA$30),"") | O30: =IF(ISNUMBER($AA$30),INDEX(Ev_c_LOK,$AA$30),"") | P30: =IF(ISNUMBER($AA$30),INDEX(NazevOddil,$AA$30),"") | AA30: =MATCH(TRUE,INDEX(vyMaska,$AA29+1):evyMaska,0)+$AA29 -> #VALUE! | AB30: =IF(ISNUMBER($AA30),INDEX(RegPopl,$AA30),"") | AC30: =IF(ISNUMBER($AA30),INDEX(Kraj,$AA30),"") | AD30: =IF(ISNUMBER($AA30),INDEX(KodOddilu,$AA30),"") | AE30: =IF(ISNUMBER($AA30),INDEX(NazevOddil,$AA30),"") | AF30: =IF(ISNUMBER($AA$30),INDEX(Ev_c_LOK,$AA$30),"") | AI30: =AND($P$44<>"",ISNUMBER(SEARCH(MID($P$44,1,2),číselníky!H30))) -> TRUE | AJ30: =MATCH(TRUE,INDEX(ikluby,$AJ29+1):enikluby,0)+$AJ29 -> 29 | AK30: =IF(ISNUMBER(AJ30),INDEX(Oddil,AJ30),"") -> 11062 Kbelská sportovní
A31: hrací den a čas začátku utkání: | AA31: =MATCH(TRUE,INDEX(vyMaska,$AA30+1):evyMaska,0)+$AA30 -> #VALUE! | AB31: =IF(ISNUMBER($AA31),INDEX(RegPopl,$AA31),"") | AC31: =IF(ISNUMBER($AA31),INDEX(Kraj,$AA31),"") | AD31: =IF(ISNUMBER($AA31),INDEX(KodOddilu,$AA31),"") | AE31: =IF(ISNUMBER($AA31),INDEX(NazevOddil,$AA31),"") | AI31: =AND($P$44<>"",ISNUMBER(SEARCH(MID($P$44,1,2),číselníky!H31))) -> TRUE | AJ31: =MATCH(TRUE,INDEX(ikluby,$AJ30+1):enikluby,0)+$AJ30 -> 30 | AK31: =IF(ISNUMBER(AJ31),INDEX(Oddil,AJ31),"") -> 11063 Šachový klub Praha 4
AI32: =AND($P$44<>"",ISNUMBER(SEARCH(MID($P$44,1,2),číselníky!H32))) -> TRUE | AJ32: =MATCH(TRUE,INDEX(ikluby,$AJ31+1):enikluby,0)+$AJ31 -> 31 | AK32: =IF(ISNUMBER(AJ32),INDEX(Oddil,AJ32),"") -> 11066 Šachy Štěpán
A33: adresa hrací místnosti: | AI33: =AND($P$44<>"",ISNUMBER(SEARCH(MID($P$44,1,2),číselníky!H33))) -> TRUE | AJ33: =MATCH(TRUE,INDEX(ikluby,$AJ32+1):enikluby,0)+$AJ32 -> 32 | AK33: =IF(ISNUMBER(AJ33),INDEX(Oddil,AJ33),"") -> 11067 ŠK Molekula
AI34: =AND($P$44<>"",ISNUMBER(SEARCH(MID($P$44,1,2),číselníky!H34))) -> TRUE | AJ34: =MATCH(TRUE,INDEX(ikluby,$AJ33+1):enikluby,0)+$AJ33 -> 33 | AK34: =IF(ISNUMBER(AJ34),INDEX(Oddil,AJ34),"") -> 11068 Šachový klub Na Smetance, z.s.
AI35: =AND($P$44<>"",ISNUMBER(SEARCH(MID($P$44,1,2),číselníky!H35))) -> TRUE | AJ35: =MATCH(TRUE,INDEX(ikluby,$AJ34+1):enikluby,0)+$AJ34 -> 34 | AK35: =IF(ISNUMBER(AJ35),INDEX(Oddil,AJ35),"") -> 11069 Chess Queen
A36: dopravní spojení: | AI36: =AND($P$44<>"",ISNUMBER(SEARCH(MID($P$44,1,2),číselníky!H36))) -> TRUE | AJ36: =MATCH(TRUE,INDEX(ikluby,$AJ35+1):enikluby,0)+$AJ35 -> 35 | AK36: =IF(ISNUMBER(AJ36),INDEX(Oddil,AJ36),"") -> 11070 ŠK GEMINI PRAHA z.s.
AI37: =AND($P$44<>"",ISNUMBER(SEARCH(MID($P$44,1,2),číselníky!H37))) -> TRUE | AJ37: =MATCH(TRUE,INDEX(ikluby,$AJ36+1):enikluby,0)+$AJ36 -> 36 | AK37: =IF(ISNUMBER(AJ37),INDEX(Oddil,AJ37),"") -> 11071 CZECH INN CHESS
AI38: =AND($P$44<>"",ISNUMBER(SEARCH(MID($P$44,1,2),číselníky!H38))) -> TRUE | AJ38: =MATCH(TRUE,INDEX(ikluby,$AJ37+1):enikluby,0)+$AJ37 -> 37 | AK38: =IF(ISNUMBER(AJ38),INDEX(Oddil,AJ38),"") -> 11072 Ztracení Chlapci
A39: kapitán (jméno,adresa,e-mail,telefon): | AI39: =AND($P$44<>"",ISNUMBER(SEARCH(MID($P$44,1,2),číselníky!H39))) -> TRUE | AJ39: =MATCH(TRUE,INDEX(ikluby,$AJ38+1):enikluby,0)+$AJ38 -> 38 | AK39: =IF(ISNUMBER(AJ39),INDEX(Oddil,AJ39),"") -> 11073 ŠK AuHa Gladiators
AI40: =AND($P$44<>"",ISNUMBER(SEARCH(MID($P$44,1,2),číselníky!H40))) -> TRUE | AJ40: =MATCH(TRUE,INDEX(ikluby,$AJ39+1):enikluby,0)+$AJ39 -> 39 | AK40: =IF(ISNUMBER(AJ40),INDEX(Oddil,AJ40),"") -> 11075 ŠK Zličín z.s.
...

Sheet DBčlenůŠSČR
